BEGIN:VCALENDAR
VERSION:2.0
PRODID:-//www.insightmcc.org//NONSGML kigkonsult.se iCalcreator 2.30.10//
CALSCALE:GREGORIAN
METHOD:PUBLISH
UID:edb959dd-c269-4e35-b0fb-b7cd1ae1e51e
X-WR-CALDESC:Insight will be closed for Juneteenth. Enjoy your holiday!
X-WR-RELCALID:c6f8a5672b3d620d25159845b13fc895
X-WR-TIMEZONE:America/New_York
BEGIN:VTIMEZONE
TZID:America/New_York
BEGIN:STANDARD
TZNAME:EST
DTSTART:20241103T020000
TZOFFSETFROM:-0400
TZOFFSETTO:-0500
RDATE:20251102T020000
RDATE:20261101T020000
END:STANDARD
BEGIN:DAYLIGHT
TZNAME:EDT
DTSTART:20250309T020000
TZOFFSETFROM:-0500
TZOFFSETTO:-0400
RDATE:20260308T020000
END:DAYLIGHT
END:VTIMEZONE
BEGIN:VEVENT
UID:b886ce40-36ab-4283-ac76-2bb33e9ca846
DTSTAMP:20260422T061624Z
DESCRIPTION:Insight will be closed for Juneteenth. Enjoy your holiday!
DTSTART;TZID=America/New_York:20250619T060000
DTEND;TZID=America/New_York:20250619T060001
LOCATION:
SUMMARY:Insight Closed
END:VEVENT
END:VCALENDAR
