BEGIN:VCALENDAR
VERSION:2.0
PRODID:-//www.insightmcc.org//NONSGML kigkonsult.se iCalcreator 2.30.10//
CALSCALE:GREGORIAN
METHOD:PUBLISH
UID:f743dc9e-2968-4f04-bd94-bb06d2aaba4f
X-WR-CALDESC:Insight Memory Care Center will offer free\, confidential memo
 ry screenings and educational materials to people with concerns about thei
 r memory or who want to check their memory now for future comparison. \n\n
 Register for a 20 minute time slot between 9:00 - 12:00 pm.\n\n&nbsp\;\n<s
 trong><a href='https://insightmemory.app.neoncrm.com/eventReg.jsp?event=23
 54&' target='_blank' class='button' rel='noreferrer noopener'>Sign Me Up!<
 /a></strong>\n
X-WR-RELCALID:1adbbdeb36da3699f328b4b62cb6a721
X-WR-TIMEZONE:America/New_York
BEGIN:VTIMEZONE
TZID:America/New_York
BEGIN:STANDARD
TZNAME:EST
DTSTART:20241103T020000
TZOFFSETFROM:-0400
TZOFFSETTO:-0500
RDATE:20251102T020000
RDATE:20261101T020000
END:STANDARD
BEGIN:DAYLIGHT
TZNAME:EDT
DTSTART:20250309T020000
TZOFFSETFROM:-0500
TZOFFSETTO:-0400
RDATE:20260308T020000
END:DAYLIGHT
END:VTIMEZONE
BEGIN:VEVENT
UID:06cf6ccc-5ecb-4287-9a5c-ccfc7168ceaf
DTSTAMP:20260422T063537Z
DESCRIPTION:Insight Memory Care Center will offer free\, confidential memor
 y screenings and educational materials to people with concerns about their
  memory or who want to check their memory now for future comparison. \n\nR
 egister for a 20 minute time slot between 9:00 - 12:00 pm.\n\n&nbsp\;\n<st
 rong><a href='https://insightmemory.app.neoncrm.com/eventReg.jsp?event=235
 4&' target='_blank' class='button' rel='noreferrer noopener'>Sign Me Up!</
 a></strong>\n
DTSTART;TZID=America/New_York:20250620T090000
DTEND;TZID=America/New_York:20250620T120000
LOCATION:Lansdowne Heights \, 19520 Sandridge Way \, Leesburg\, VA 20176 US
SUMMARY:Memory Screenings at Lansdowne Heights
END:VEVENT
END:VCALENDAR
