BEGIN:VCALENDAR
VERSION:2.0
PRODID:-//www.insightmcc.org//NONSGML kigkonsult.se iCalcreator 2.30.10//
CALSCALE:GREGORIAN
METHOD:PUBLISH
UID:88ba5189-e612-49ff-9240-d922fb474275
X-WR-CALDESC:Care Partner Meet-Ups are an informal way for current families
  to meet\, chat\, and get to know one another! You are welcome to stop in 
 and stay as long as you'd like. We offer meet-ups in both Fairfax (1st Fri
 days) and Sterling (1st Wednesdays) once a month.\n\n&nbsp\;\n<strong><a h
 ref='https://insightmemory.app.neoncrm.com/eventReg.jsp?event=2645&' targe
 t='_blank' class='button' rel='noreferrer noopener'>Sign Me Up!</a></stron
 g>
X-WR-RELCALID:b9cd8cce96e4a12b69d54a3266f10033
X-WR-TIMEZONE:America/New_York
BEGIN:VTIMEZONE
TZID:America/New_York
BEGIN:STANDARD
TZNAME:EST
DTSTART:20241103T020000
TZOFFSETFROM:-0400
TZOFFSETTO:-0500
RDATE:20251102T020000
RDATE:20261101T020000
END:STANDARD
BEGIN:DAYLIGHT
TZNAME:EDT
DTSTART:20250309T020000
TZOFFSETFROM:-0500
TZOFFSETTO:-0400
RDATE:20260308T020000
END:DAYLIGHT
END:VTIMEZONE
BEGIN:VEVENT
UID:626b8f77-1dce-464d-8fed-b0ba9dcda65c
DTSTAMP:20260422T075248Z
DESCRIPTION:Care Partner Meet-Ups are an informal way for current families 
 to meet\, chat\, and get to know one another! You are welcome to stop in a
 nd stay as long as you'd like. We offer meet-ups in both Fairfax (1st Frid
 ays) and Sterling (1st Wednesdays) once a month.\n\n&nbsp\;\n<strong><a hr
 ef='https://insightmemory.app.neoncrm.com/eventReg.jsp?event=2645&' target
 ='_blank' class='button' rel='noreferrer noopener'>Sign Me Up!</a></strong
 >
DTSTART;TZID=America/New_York:20250702T133000
DTEND;TZID=America/New_York:20250702T144500
LOCATION:Ridgetop Coffee and Tea\, 21631 Ridgetop Circle\, Sterling\, VA 20
 166 US
SUMMARY:Sterling Care Partner Meet-Up
END:VEVENT
END:VCALENDAR
