BEGIN:VCALENDAR
VERSION:2.0
PRODID:-//www.insightmcc.org//NONSGML kigkonsult.se iCalcreator 2.30.10//
CALSCALE:GREGORIAN
METHOD:PUBLISH
UID:0e71c196-b13b-4198-a33d-27fd328a28c2
X-WR-CALDESC:Insight will be closed for Independence Day. Enjoy your holida
 y!
X-WR-RELCALID:244172dc94e5b24e1b69150fdab9923b
X-WR-TIMEZONE:America/New_York
BEGIN:VTIMEZONE
TZID:America/New_York
BEGIN:STANDARD
TZNAME:EST
DTSTART:20241103T020000
TZOFFSETFROM:-0400
TZOFFSETTO:-0500
RDATE:20251102T020000
RDATE:20261101T020000
END:STANDARD
BEGIN:DAYLIGHT
TZNAME:EDT
DTSTART:20250309T020000
TZOFFSETFROM:-0500
TZOFFSETTO:-0400
RDATE:20260308T020000
END:DAYLIGHT
END:VTIMEZONE
BEGIN:VEVENT
UID:68fe8f06-1e8a-4df4-b260-802979097ac3
DTSTAMP:20260422T073632Z
DESCRIPTION:Insight will be closed for Independence Day. Enjoy your holiday
 !
DTSTART;TZID=America/New_York:20250704T060000
DTEND;TZID=America/New_York:20250704T060001
LOCATION:
SUMMARY:Insight Closed
END:VEVENT
END:VCALENDAR
