BEGIN:VCALENDAR
VERSION:2.0
PRODID:-//www.insightmcc.org//NONSGML kigkonsult.se iCalcreator 2.30.10//
CALSCALE:GREGORIAN
METHOD:PUBLISH
UID:843bc4f5-bc43-4811-9a32-7374fa00f66f
X-WR-CALDESC:Join us for a presentation and discussion on adult guardianshi
 ps by Alexis Abraham\, Esq. of Bronley Law\, PLLC. Alexis will provide ins
 ight about the legal process\, your rights and responsibilities\, and how 
 to navigate the complexities of guardianships. Don’t miss out on this esse
 ntial session to empower yourself with knowledge and tools for responsible
  caregiving. \n\n<b>This class will be held both virtually and in-person i
 n Fairfax. Please select your attendance type when you register.</b>\n\nTh
 e in-person session will be held in the Mazawey Education and Support Cent
 er\, 3955 Pender Drive\, Suite 100\, Fairfax\, VA 22030.\n\nVirtual attend
 ees will receive Zoom information prior to the class.\n\nThis program is a
  part of our monthly Care Partner Training series. All sessions are FREE\,
  and held the second Wednesday of each month from 1:00 to 2:30 pm.\n\n\n&n
 bsp\;\n<strong><a href='https://insightmemory.app.neoncrm.com/eventReg.jsp
 ?event=2560&' class='button'>Sign Me Up - In Person</a></strong>\n\n<stron
 g><a href='https://insightmemory.app.neoncrm.com/eventReg.jsp?event=2565&'
  class='button'>Sign Me Up - Virtual</a></strong>\n\n\n<b>Presenter</b>\n<
 i>Alexis R. Abraham\, Esq.</i>\n\nAlexis R. Abraham is an associate with B
 ronley Law\, PLLC\, and she is licensed to practice law in Virginia.  Alex
 is’ primary areas of focus are trust and estate litigation\, probate\, tru
 st and estate administration\, representation of executors and other fiduc
 iaries\, representation of heirs and beneficiaries\, estate planning\, gua
 rdianship proceedings\, capacity and elder care issues and proceedings bef
 ore the Offices of the Commissioners of Accounts.  Prior to joining Bronle
 y Law\, Alexis worked at a boutique law firm focusing on trust and estate 
 matters.\n\nAlexis earned her Juris Doctorate degree from George Mason Sch
 ool of Law in 2019\, and she received a B.S. in political science from Vir
 ginia Commonwealth University in 2014 where he graduated Magna Cum Laude. 
 Alexis is a member of the Fairfax Bar Association\, Virginia Women's Attor
 neys Association and Virginia Academy of Elder Law Attorneys. Alexis is th
 e Co-Chair of the Fairfax Bar Association’s Diversity\, Equity and Inclusi
 on Committee.\n\nAlexis is passionate about advocating for access to justi
 ce and routinely participates in the Fairfax Law Foundation’s Housing Advo
 cacy Clinic and Wills on Wheels. In 2021 Alexis was named Pro Bono Attorne
 y of the year by the Fairfax Bar Association. \n\nIn her free time Alexis 
 enjoys outdoors activities such as camping\, hiking and rock climbing. Ale
 xis is a sports fan and plays in a recreational softball league. \n
X-WR-RELCALID:fc1c7e9d10d2c9cca1aff0ad82b039f4
X-WR-TIMEZONE:America/New_York
BEGIN:VTIMEZONE
TZID:America/New_York
BEGIN:STANDARD
TZNAME:EST
DTSTART:20241103T020000
TZOFFSETFROM:-0400
TZOFFSETTO:-0500
RDATE:20251102T020000
RDATE:20261101T020000
END:STANDARD
BEGIN:DAYLIGHT
TZNAME:EDT
DTSTART:20250309T020000
TZOFFSETFROM:-0500
TZOFFSETTO:-0400
RDATE:20260308T020000
END:DAYLIGHT
END:VTIMEZONE
BEGIN:VEVENT
UID:51944c2e-00ae-4533-b1e5-291606320ea3
DTSTAMP:20260422T073712Z
DESCRIPTION:Join us for a presentation and discussion on adult guardianship
 s by Alexis Abraham\, Esq. of Bronley Law\, PLLC. Alexis will provide insi
 ght about the legal process\, your rights and responsibilities\, and how t
 o navigate the complexities of guardianships. Don’t miss out on this essen
 tial session to empower yourself with knowledge and tools for responsible 
 caregiving. \n\n<b>This class will be held both virtually and in-person in
  Fairfax. Please select your attendance type when you register.</b>\n\nThe
  in-person session will be held in the Mazawey Education and Support Cente
 r\, 3955 Pender Drive\, Suite 100\, Fairfax\, VA 22030.\n\nVirtual attende
 es will receive Zoom information prior to the class.\n\nThis program is a 
 part of our monthly Care Partner Training series. All sessions are FREE\, 
 and held the second Wednesday of each month from 1:00 to 2:30 pm.\n\n\n&nb
 sp\;\n<strong><a href='https://insightmemory.app.neoncrm.com/eventReg.jsp?
 event=2560&' class='button'>Sign Me Up - In Person</a></strong>\n\n<strong
 ><a href='https://insightmemory.app.neoncrm.com/eventReg.jsp?event=2565&' 
 class='button'>Sign Me Up - Virtual</a></strong>\n\n\n<b>Presenter</b>\n<i
 >Alexis R. Abraham\, Esq.</i>\n\nAlexis R. Abraham is an associate with Br
 onley Law\, PLLC\, and she is licensed to practice law in Virginia.  Alexi
 s’ primary areas of focus are trust and estate litigation\, probate\, trus
 t and estate administration\, representation of executors and other fiduci
 aries\, representation of heirs and beneficiaries\, estate planning\, guar
 dianship proceedings\, capacity and elder care issues and proceedings befo
 re the Offices of the Commissioners of Accounts.  Prior to joining Bronley
  Law\, Alexis worked at a boutique law firm focusing on trust and estate m
 atters.\n\nAlexis earned her Juris Doctorate degree from George Mason Scho
 ol of Law in 2019\, and she received a B.S. in political science from Virg
 inia Commonwealth University in 2014 where he graduated Magna Cum Laude. A
 lexis is a member of the Fairfax Bar Association\, Virginia Women's Attorn
 eys Association and Virginia Academy of Elder Law Attorneys. Alexis is the
  Co-Chair of the Fairfax Bar Association’s Diversity\, Equity and Inclusio
 n Committee.\n\nAlexis is passionate about advocating for access to justic
 e and routinely participates in the Fairfax Law Foundation’s Housing Advoc
 acy Clinic and Wills on Wheels. In 2021 Alexis was named Pro Bono Attorney
  of the year by the Fairfax Bar Association. \n\nIn her free time Alexis e
 njoys outdoors activities such as camping\, hiking and rock climbing. Alex
 is is a sports fan and plays in a recreational softball league. \n
DTSTART;TZID=America/New_York:20250709T130000
DTEND;TZID=America/New_York:20250709T143000
LOCATION:Hybrid! Virtual and in-person at Insight Memory Care Center - Fair
 fax
SUMMARY:Guardianship Primer
END:VEVENT
END:VCALENDAR
