BEGIN:VCALENDAR
VERSION:2.0
PRODID:-//www.insightmcc.org//NONSGML kigkonsult.se iCalcreator 2.30.10//
CALSCALE:GREGORIAN
METHOD:PUBLISH
UID:657fed4b-0ea9-4abd-8407-cae756f1c3bc
X-WR-CALDESC:Come enjoy an afternoon of dining and conversation! SAGE Table
  is an initiative launched in 2017 to fight isolation in the LGBTQ+ commun
 ity through the power of intergenerational connections. SAGE Table events 
 bring together people of all ages to share a meal and conversation. The tr
 ansformative relationships formed around a SAGE Table can alleviate social
  isolation and its consequences.\n\nMembers of the LGBTQ+ community and al
 lies are encouraged to attend. Meals will be provided. The only item you n
 eed to bring bring is yourself! Space is limited - sign up today!\n\n\n&nb
 sp\;\n<strong><a href='https://insightmemory.app.neoncrm.com/eventReg.jsp?
 event=2495&' target='_blank' class='button' rel='noreferrer noopener'>Sign
  Me Up!</a></strong>\n
X-WR-RELCALID:46b7ac3168b2b88ce5895ecb5011b3b8
X-WR-TIMEZONE:America/New_York
BEGIN:VTIMEZONE
TZID:America/New_York
BEGIN:STANDARD
TZNAME:EST
DTSTART:20241103T020000
TZOFFSETFROM:-0400
TZOFFSETTO:-0500
RDATE:20251102T020000
RDATE:20261101T020000
END:STANDARD
BEGIN:DAYLIGHT
TZNAME:EDT
DTSTART:20250309T020000
TZOFFSETFROM:-0500
TZOFFSETTO:-0400
RDATE:20260308T020000
END:DAYLIGHT
END:VTIMEZONE
BEGIN:VEVENT
UID:042c4316-fbe7-4998-8496-29305c30faa7
DTSTAMP:20260422T073631Z
DESCRIPTION:Come enjoy an afternoon of dining and conversation! SAGE Table 
 is an initiative launched in 2017 to fight isolation in the LGBTQ+ communi
 ty through the power of intergenerational connections. SAGE Table events b
 ring together people of all ages to share a meal and conversation. The tra
 nsformative relationships formed around a SAGE Table can alleviate social 
 isolation and its consequences.\n\nMembers of the LGBTQ+ community and all
 ies are encouraged to attend. Meals will be provided. The only item you ne
 ed to bring bring is yourself! Space is limited - sign up today!\n\n\n&nbs
 p\;\n<strong><a href='https://insightmemory.app.neoncrm.com/eventReg.jsp?e
 vent=2495&' target='_blank' class='button' rel='noreferrer noopener'>Sign 
 Me Up!</a></strong>\n
DTSTART;TZID=America/New_York:20250715T180000
DTEND;TZID=America/New_York:20250715T200000
LOCATION:Insight - Sterling\, 45945 Center Oak Plaza\, Suite 190\, Sterling
 \, VA 20166 US
SUMMARY:SAGE Table Event
END:VEVENT
END:VCALENDAR
