BEGIN:VCALENDAR
VERSION:2.0
PRODID:-//www.insightmcc.org//NONSGML kigkonsult.se iCalcreator 2.30.10//
CALSCALE:GREGORIAN
METHOD:PUBLISH
UID:a40970e3-6f67-4170-bd8d-6894336a34a1
X-WR-CALDESC:Insight will be closed for Labor Day. Enjoy your holiday!
X-WR-RELCALID:ae2c8ca807ad27e20316ac429d4faaf5
X-WR-TIMEZONE:America/New_York
BEGIN:VTIMEZONE
TZID:America/New_York
BEGIN:STANDARD
TZNAME:EST
DTSTART:20241103T020000
TZOFFSETFROM:-0400
TZOFFSETTO:-0500
RDATE:20251102T020000
RDATE:20261101T020000
END:STANDARD
BEGIN:DAYLIGHT
TZNAME:EDT
DTSTART:20250309T020000
TZOFFSETFROM:-0500
TZOFFSETTO:-0400
RDATE:20260308T020000
END:DAYLIGHT
END:VTIMEZONE
BEGIN:VEVENT
UID:6a71c90c-657b-492a-a0c1-b849102dd482
DTSTAMP:20260422T101516Z
DESCRIPTION:Insight will be closed for Labor Day. Enjoy your holiday!
DTSTART;TZID=America/New_York:20250901T060000
DTEND;TZID=America/New_York:20250901T060001
LOCATION:
SUMMARY:Insight Closed
END:VEVENT
END:VCALENDAR
