BEGIN:VCALENDAR
VERSION:2.0
PRODID:-//www.insightmcc.org//NONSGML kigkonsult.se iCalcreator 2.30.10//
CALSCALE:GREGORIAN
METHOD:PUBLISH
UID:5d090389-df1e-4c29-b39a-2a053c7f82eb
X-WR-CALDESC:Communication often becomes difficult as dementia progresses. 
 Learn skills that can help ease the frustration and lead to successful int
 eractions.\n\nThis virtual presentation is hosted by DFA of Northern Princ
 e George's County and presented by Insight. Please contact the event conta
 ct below to register and receive the virtual link.
X-WR-RELCALID:8e2e6eeb78be1ad3f0dfd8df3aa14794
X-WR-TIMEZONE:America/New_York
BEGIN:VTIMEZONE
TZID:America/New_York
BEGIN:STANDARD
TZNAME:EST
DTSTART:20241103T020000
TZOFFSETFROM:-0400
TZOFFSETTO:-0500
RDATE:20251102T020000
RDATE:20261101T020000
END:STANDARD
BEGIN:DAYLIGHT
TZNAME:EDT
DTSTART:20250309T020000
TZOFFSETFROM:-0500
TZOFFSETTO:-0400
RDATE:20260308T020000
END:DAYLIGHT
END:VTIMEZONE
BEGIN:VEVENT
UID:74fd864a-dede-4964-8658-824031fda43b
DTSTAMP:20260422T102059Z
DESCRIPTION:Communication often becomes difficult as dementia progresses. L
 earn skills that can help ease the frustration and lead to successful inte
 ractions.\n\nThis virtual presentation is hosted by DFA of Northern Prince
  George's County and presented by Insight. Please contact the event contac
 t below to register and receive the virtual link.
DTSTART;TZID=America/New_York:20250911T190000
DTEND;TZID=America/New_York:20250911T200000
LOCATION:Virtual
SUMMARY:Enhancing Communication with a Person with Dementia
END:VEVENT
END:VCALENDAR
