BEGIN:VCALENDAR
VERSION:2.0
PRODID:-//www.insightmcc.org//NONSGML kigkonsult.se iCalcreator 2.30.10//
CALSCALE:GREGORIAN
METHOD:PUBLISH
UID:8f861919-ec85-4db0-9349-e91d6cef6237
X-WR-CALDESC:MCI is a slight yet noticeable decline in memory that warrants
  attention. Unfortunately\, once diagnosed\, fear\, confusion\, overwhelm 
 and conflicting opinions can make it difficult to figure out how and where
  to get information and support. \n\nTopics include:\n•Recognizing the ear
 ly signs of MCI\n•Possible causes of MCI\n•The difference between MCI and 
 other dementias\n•The importance of self-care\n•Available treatments\, res
 ources and local services\n\n\nPlease register at the link below or contac
 t the event contact listed below!\n\nhttps://thekensingtonfallschurch.com/
 kensington-events/
X-WR-RELCALID:0b3ef25eea4a45447a13f625026d6c25
X-WR-TIMEZONE:America/New_York
BEGIN:VTIMEZONE
TZID:America/New_York
BEGIN:STANDARD
TZNAME:EST
DTSTART:20241103T020000
TZOFFSETFROM:-0400
TZOFFSETTO:-0500
RDATE:20251102T020000
RDATE:20261101T020000
END:STANDARD
BEGIN:DAYLIGHT
TZNAME:EDT
DTSTART:20250309T020000
TZOFFSETFROM:-0500
TZOFFSETTO:-0400
RDATE:20260308T020000
END:DAYLIGHT
END:VTIMEZONE
BEGIN:VEVENT
UID:b080329f-6b3a-43c6-bfa2-a975fa4ec1fe
DTSTAMP:20260422T101532Z
DESCRIPTION:MCI is a slight yet noticeable decline in memory that warrants 
 attention. Unfortunately\, once diagnosed\, fear\, confusion\, overwhelm a
 nd conflicting opinions can make it difficult to figure out how and where 
 to get information and support. \n\nTopics include:\n•Recognizing the earl
 y signs of MCI\n•Possible causes of MCI\n•The difference between MCI and o
 ther dementias\n•The importance of self-care\n•Available treatments\, reso
 urces and local services\n\n\nPlease register at the link below or contact
  the event contact listed below!\n\nhttps://thekensingtonfallschurch.com/k
 ensington-events/
DTSTART;TZID=America/New_York:20250911T180000
DTEND;TZID=America/New_York:20250911T190000
LOCATION:The Kensington Falls Church\, 700 W Broad St\, Falls Church\, VA 2
 2046 US
SUMMARY:MCI\, Now What?
END:VEVENT
END:VCALENDAR
