BEGIN:VCALENDAR
VERSION:2.0
PRODID:-//www.insightmcc.org//NONSGML kigkonsult.se iCalcreator 2.30.10//
CALSCALE:GREGORIAN
METHOD:PUBLISH
UID:dca709bd-5045-44b2-bde4-47b58b2fd405
X-WR-CALDESC:
X-WR-RELCALID:e0c59e92107bff92b183e61a72794550
X-WR-TIMEZONE:America/New_York
BEGIN:VTIMEZONE
TZID:America/New_York
BEGIN:STANDARD
TZNAME:EST
DTSTART:20241103T020000
TZOFFSETFROM:-0400
TZOFFSETTO:-0500
RDATE:20251102T020000
RDATE:20261101T020000
END:STANDARD
BEGIN:DAYLIGHT
TZNAME:EDT
DTSTART:20250309T020000
TZOFFSETFROM:-0500
TZOFFSETTO:-0400
RDATE:20260308T020000
RDATE:20270314T020000
END:DAYLIGHT
END:VTIMEZONE
BEGIN:VEVENT
UID:1debe4ce-8516-44bb-b578-a5181e3b838f
DTSTAMP:20260422T101705Z
DESCRIPTION:
DTSTART;TZID=America/New_York:20250916T133000
DTEND;TZID=America/New_York:20250916T143000
LOCATION:White Springs Senior Living \, 349 Legion Drive\, Warrenton\, VA 2
 0186 US
SUMMARY:Care Support Group
END:VEVENT
END:VCALENDAR
