BEGIN:VCALENDAR
VERSION:2.0
PRODID:-//www.insightmcc.org//NONSGML kigkonsult.se iCalcreator 2.30.10//
CALSCALE:GREGORIAN
METHOD:PUBLISH
UID:74e7c737-1af8-40a6-a1bb-48bf7c89a99d
X-WR-CALDESC:We know of several genes that can cause hereditary FTD\, ALS\,
  and ALS with FTD\, with C9orf72 the most common. Yet genetics is not the 
 complete story\, as these conditions can appear without a known genetic ca
 use. Dr. Annie Yang from Inova who specialize in FTD and ALS discuss diagn
 osis and disease management when both conditions are present in the same p
 erson. \n\n<b>This class will be held virtually. </b>\n\n\nVirtual attende
 es will receive Zoom information prior to the class.\n\nThis program is a 
 part of our monthly Care Partner Training series. All sessions are FREE an
 d held the second Wednesday of each month.\n\n\n&nbsp\;\n\n\n<strong><a hr
 ef='https://insightmemory.app.neoncrm.com/eventReg.jsp?event=2585&' class=
 'button'>Sign Me Up - Virtual</a></strong>\n\n\n<b>Presenter</b>\n<i>Dr. A
 nnie Yang</i>\n\nDr. Annie Yang is a specialty care physician board certif
 ied in neurology. She joined Inova in 2024 and has been practicing since 2
 019. Prior to joining Inova\, Dr. Yang was a clinical neurophysiology fell
 ow at the University of Virginia’s neurology department in Charlottesville
 \, VA.\n\nDr. Yang’s clinical areas of interest include myasthenia gravis\
 , amyotrophic lateral sclerosis (ALS)\, chronic inflammatory demyelinating
  polyneuropathy\, Guillain-Barré syndrome and neuropathy. She specializes 
 in performing electromyography and nerve conduction studies.
X-WR-RELCALID:ff971a2f27a4f3609e0d5bea688884b8
X-WR-TIMEZONE:America/New_York
BEGIN:VTIMEZONE
TZID:America/New_York
BEGIN:STANDARD
TZNAME:EST
DTSTART:20241103T020000
TZOFFSETFROM:-0400
TZOFFSETTO:-0500
RDATE:20251102T020000
RDATE:20261101T020000
END:STANDARD
BEGIN:DAYLIGHT
TZNAME:EDT
DTSTART:20250309T020000
TZOFFSETFROM:-0500
TZOFFSETTO:-0400
RDATE:20260308T020000
RDATE:20270314T020000
END:DAYLIGHT
END:VTIMEZONE
BEGIN:VEVENT
UID:003fd5fc-27d8-4f5b-a921-9cdeb2e94e6f
DTSTAMP:20260422T101418Z
DESCRIPTION:We know of several genes that can cause hereditary FTD\, ALS\, 
 and ALS with FTD\, with C9orf72 the most common. Yet genetics is not the c
 omplete story\, as these conditions can appear without a known genetic cau
 se. Dr. Annie Yang from Inova who specialize in FTD and ALS discuss diagno
 sis and disease management when both conditions are present in the same pe
 rson. \n\n<b>This class will be held virtually. </b>\n\n\nVirtual attendee
 s will receive Zoom information prior to the class.\n\nThis program is a p
 art of our monthly Care Partner Training series. All sessions are FREE and
  held the second Wednesday of each month.\n\n\n&nbsp\;\n\n\n<strong><a hre
 f='https://insightmemory.app.neoncrm.com/eventReg.jsp?event=2585&' class='
 button'>Sign Me Up - Virtual</a></strong>\n\n\n<b>Presenter</b>\n<i>Dr. An
 nie Yang</i>\n\nDr. Annie Yang is a specialty care physician board certifi
 ed in neurology. She joined Inova in 2024 and has been practicing since 20
 19. Prior to joining Inova\, Dr. Yang was a clinical neurophysiology fello
 w at the University of Virginia’s neurology department in Charlottesville\
 , VA.\n\nDr. Yang’s clinical areas of interest include myasthenia gravis\,
  amyotrophic lateral sclerosis (ALS)\, chronic inflammatory demyelinating 
 polyneuropathy\, Guillain-Barré syndrome and neuropathy. She specializes i
 n performing electromyography and nerve conduction studies.
DTSTART;TZID=America/New_York:20250917T120000
DTEND;TZID=America/New_York:20250917T130000
LOCATION:
SUMMARY:FTD & ALS
END:VEVENT
END:VCALENDAR
