BEGIN:VCALENDAR
VERSION:2.0
PRODID:-//www.insightmcc.org//NONSGML kigkonsult.se iCalcreator 2.30.10//
CALSCALE:GREGORIAN
METHOD:PUBLISH
UID:65094a6b-9366-4b12-98a5-d1e3ecac1f98
X-WR-CALDESC:<h6>New to Insight Memory Care Center? Want to learn more?</h6
 >\n\nEvents are offered on the 3rd Thursday of the month from 10:00 - 11:0
 0 am. Come and see our programs in action\, meet the staff\, and learn mor
 e about resources available.\n\n10:00-10:30 am | Meet and Greet\n10:30-11:
 00 am | Tour of Insight Programs in Action\n\n\n&nbsp\;\n<strong><a href='
 https://insightmemory.app.neoncrm.com/eventReg.jsp?event=2530&' class='but
 ton'>Sign Me Up!</a></strong>
X-WR-RELCALID:8c7ee34fb9b9717fcff9e4d55d2d7a08
X-WR-TIMEZONE:America/New_York
BEGIN:VTIMEZONE
TZID:America/New_York
BEGIN:STANDARD
TZNAME:EST
DTSTART:20241103T020000
TZOFFSETFROM:-0400
TZOFFSETTO:-0500
RDATE:20251102T020000
RDATE:20261101T020000
END:STANDARD
BEGIN:DAYLIGHT
TZNAME:EDT
DTSTART:20250309T020000
TZOFFSETFROM:-0500
TZOFFSETTO:-0400
RDATE:20260308T020000
RDATE:20270314T020000
END:DAYLIGHT
END:VTIMEZONE
BEGIN:VEVENT
UID:48af9c4d-49cf-46d2-a8cc-526571179247
DTSTAMP:20260422T101756Z
DESCRIPTION:<h6>New to Insight Memory Care Center? Want to learn more?</h6>
 \n\nEvents are offered on the 3rd Thursday of the month from 10:00 - 11:00
  am. Come and see our programs in action\, meet the staff\, and learn more
  about resources available.\n\n10:00-10:30 am | Meet and Greet\n10:30-11:0
 0 am | Tour of Insight Programs in Action\n\n\n&nbsp\;\n<strong><a href='h
 ttps://insightmemory.app.neoncrm.com/eventReg.jsp?event=2530&' class='butt
 on'>Sign Me Up!</a></strong>
DTSTART;TZID=America/New_York:20250918T100000
DTEND;TZID=America/New_York:20250918T110000
LOCATION:Insight Memory Care Center - Fairfax (Main Building)\, 3953 Pender
  Drive Suite 100\, Fairfax\, VA 22030 US
SUMMARY:Insight in Action
END:VEVENT
END:VCALENDAR
