BEGIN:VCALENDAR
VERSION:2.0
PRODID:-//www.insightmcc.org//NONSGML kigkonsult.se iCalcreator 2.30.10//
CALSCALE:GREGORIAN
METHOD:PUBLISH
UID:90933742-2a96-4f32-bb10-7d6bcedbc127
X-WR-CALDESC:Join Us for a Free Saturday Morning Caregiving Training Event!
 \n\nInsight invites you to a free training event designed to support and e
 mpower caregivers. Whether you're new to caregiving or have years of exper
 ience\, this morning of expert-led sessions will provide valuable tools\, 
 strategies\, and resources to help you navigate the caregiving journey\, e
 specially when caring for someone with dementia.\n\nEvent Schedule – Satur
 day Morning\n\n8:30 AM – 9:00 AM | Check-In\n\n9:00 AM – 10:00 AM | Making
  the Most of Every Neurology Visit\n\n10:00 AM – 11:00 AM | Dementia and Y
 our Money: How to Prepare for What’s Ahead\n\n11:00 AM – 12:00 PM | Change
  is Hard: Helping Someone with Dementia Through Transitions\n\nRespite car
 e is available. Please request no later than September 12th.\nTo request r
 espite or for more information\, please email Lindsey Vajpeyi at lindsey.v
 ajpeyi@insightmcc.org.\n\nWe hope you’ll join us for this morning of learn
 ing\, connection\, and support. \n\nPlease see link below to learn more re
 garding guest presenters\, and more in-depth information.\n\n\n\n&nbsp\;\n
 <strong><a href='https://insightmemory.app.neoncrm.com/eventReg.jsp?event=
 2775&' target='_blank' class='button' rel='noreferrer noopener'>Sign Me Up
 !</a></strong>
X-WR-RELCALID:174c9815371e91a5d517b9fc8b3e6dc3
X-WR-TIMEZONE:America/New_York
BEGIN:VTIMEZONE
TZID:America/New_York
BEGIN:STANDARD
TZNAME:EST
DTSTART:20241103T020000
TZOFFSETFROM:-0400
TZOFFSETTO:-0500
RDATE:20251102T020000
RDATE:20261101T020000
END:STANDARD
BEGIN:DAYLIGHT
TZNAME:EDT
DTSTART:20250309T020000
TZOFFSETFROM:-0500
TZOFFSETTO:-0400
RDATE:20260308T020000
RDATE:20270314T020000
END:DAYLIGHT
END:VTIMEZONE
BEGIN:VEVENT
UID:f283cdd3-e3e3-418f-ad81-4ed52753addf
DTSTAMP:20260422T101531Z
DESCRIPTION:Join Us for a Free Saturday Morning Caregiving Training Event!
 \n\nInsight invites you to a free training event designed to support and e
 mpower caregivers. Whether you're new to caregiving or have years of exper
 ience\, this morning of expert-led sessions will provide valuable tools\, 
 strategies\, and resources to help you navigate the caregiving journey\, e
 specially when caring for someone with dementia.\n\nEvent Schedule – Satur
 day Morning\n\n8:30 AM – 9:00 AM | Check-In\n\n9:00 AM – 10:00 AM | Making
  the Most of Every Neurology Visit\n\n10:00 AM – 11:00 AM | Dementia and Y
 our Money: How to Prepare for What’s Ahead\n\n11:00 AM – 12:00 PM | Change
  is Hard: Helping Someone with Dementia Through Transitions\n\nRespite car
 e is available. Please request no later than September 12th.\nTo request r
 espite or for more information\, please email Lindsey Vajpeyi at lindsey.v
 ajpeyi@insightmcc.org.\n\nWe hope you’ll join us for this morning of learn
 ing\, connection\, and support. \n\nPlease see link below to learn more re
 garding guest presenters\, and more in-depth information.\n\n\n\n&nbsp\;\n
 <strong><a href='https://insightmemory.app.neoncrm.com/eventReg.jsp?event=
 2775&' target='_blank' class='button' rel='noreferrer noopener'>Sign Me Up
 !</a></strong>
DTSTART;TZID=America/New_York:20250927T090000
DTEND;TZID=America/New_York:20250927T120000
LOCATION:Insight Memory Educaton and Support Center\, 3955 Pender Drive Sui
 te 100\, Fairfax\, VA 22030 US
SUMMARY:Caregiver Bootcamp
END:VEVENT
END:VCALENDAR
