BEGIN:VCALENDAR
VERSION:2.0
PRODID:-//www.insightmcc.org//NONSGML kigkonsult.se iCalcreator 2.30.10//
CALSCALE:GREGORIAN
METHOD:PUBLISH
UID:e15ac052-c847-4fe3-b34c-58b826aebd05
X-WR-CALDESC:Many of us become  concerned when we forget things or words\, 
 worrying that it might be the beginning of dementia. \n\nLindsey Vajpeyi\,
  ADC/MC\, CDP\, CADDCT\, Director of Early-Stage Programs at the Insight M
 emory Care Center\, will provide an overview on how to recognize the diffe
 rence between normal aging memory loss and the early stages of dementia in
  yourself or loved ones. She will focus on changes that occur with age\, w
 arning signs of a memory problem\, and what to do if someone is experienci
 ng symptoms. \n\nCo-hosted by Great Falls Senior Center and Great Falls Li
 brary. \n\nRegistration requested at  https://librarycalendar.fairfaxcount
 y.gov/event/13412194\n\n\n \n\n
X-WR-RELCALID:83dee6b3b6cc51451f801a9c453a99b7
X-WR-TIMEZONE:America/New_York
BEGIN:VTIMEZONE
TZID:America/New_York
BEGIN:STANDARD
TZNAME:EST
DTSTART:20241103T020000
TZOFFSETFROM:-0400
TZOFFSETTO:-0500
RDATE:20251102T020000
RDATE:20261101T020000
END:STANDARD
BEGIN:DAYLIGHT
TZNAME:EDT
DTSTART:20250309T020000
TZOFFSETFROM:-0500
TZOFFSETTO:-0400
RDATE:20260308T020000
RDATE:20270314T020000
END:DAYLIGHT
END:VTIMEZONE
BEGIN:VEVENT
UID:a971ca77-ad20-4ef8-b023-9a66335d6318
DTSTAMP:20260422T114834Z
DESCRIPTION:Many of us become  concerned when we forget things or words\, w
 orrying that it might be the beginning of dementia. \n\nLindsey Vajpeyi\, 
 ADC/MC\, CDP\, CADDCT\, Director of Early-Stage Programs at the Insight Me
 mory Care Center\, will provide an overview on how to recognize the differ
 ence between normal aging memory loss and the early stages of dementia in 
 yourself or loved ones. She will focus on changes that occur with age\, wa
 rning signs of a memory problem\, and what to do if someone is experiencin
 g symptoms. \n\nCo-hosted by Great Falls Senior Center and Great Falls Lib
 rary. \n\nRegistration requested at  https://librarycalendar.fairfaxcounty
 .gov/event/13412194\n\n\n \n\n
DTSTART;TZID=America/New_York:20251001T103000
DTEND;TZID=America/New_York:20251001T113000
LOCATION:Great Falls Library\, Great Falls Meeting Room\, 9830 Georgetown P
 ike\, Great Falls\, VA 22066 US
SUMMARY:OVERVIEW OF NORMAL AGING VS DEMENTIA
END:VEVENT
END:VCALENDAR
