BEGIN:VCALENDAR
VERSION:2.0
PRODID:-//www.insightmcc.org//NONSGML kigkonsult.se iCalcreator 2.30.10//
CALSCALE:GREGORIAN
METHOD:PUBLISH
UID:970778c1-f940-4bd9-8134-9cbaf7760bde
X-WR-CALDESC:Learn practical strategies for creating a safe living environm
 ent\, navigating in-home care options\, utilizing local support services\,
  and planning for long-term needs. Discover how to balance care responsibi
 lities while promoting your loved one’s independence\, dignity\, and quali
 ty of life.\n\nSpeaker: Peter Chung\, MPH\, CDP\, SYNERGY Homecare\n\n<b>T
 his class will be held both virtually and in-person in Fairfax. Please sel
 ect your attendance type when you register.</b>\n\nThe in-person session w
 ill be held in the Mazawey Education and Support Center\, 3955 Pender Driv
 e\, Suite 100\, Fairfax\, VA 22030.\n\nVirtual attendees will receive Zoom
  information prior to the class.\n\nThis program is a part of our monthly 
 Care Partner Training series. All sessions are FREE\, and held the second 
 Wednesday of each month from 1:00 to 2:30 pm.\n\n\n&nbsp\;\n<strong><a hre
 f='https://insightmemory.app.neoncrm.com/eventReg.jsp?event=2850&' class='
 button'>Sign Me Up - In Person</a></strong>\n\n<strong><a href='https://in
 sightmemory.app.neoncrm.com/eventReg.jsp?event=2845&' class='button'>Sign 
 Me Up - Virtual</a></strong>\n\n
X-WR-RELCALID:11bb891c6fd258686317c81cbd2fbceb
X-WR-TIMEZONE:America/New_York
BEGIN:VTIMEZONE
TZID:America/New_York
BEGIN:STANDARD
TZNAME:EST
DTSTART:20241103T020000
TZOFFSETFROM:-0400
TZOFFSETTO:-0500
RDATE:20251102T020000
RDATE:20261101T020000
END:STANDARD
BEGIN:DAYLIGHT
TZNAME:EDT
DTSTART:20250309T020000
TZOFFSETFROM:-0500
TZOFFSETTO:-0400
RDATE:20260308T020000
RDATE:20270314T020000
END:DAYLIGHT
END:VTIMEZONE
BEGIN:VEVENT
UID:31804251-2f39-4ba5-9d41-2da5f1af6b5c
DTSTAMP:20260422T115134Z
DESCRIPTION:Learn practical strategies for creating a safe living environme
 nt\, navigating in-home care options\, utilizing local support services\, 
 and planning for long-term needs. Discover how to balance care responsibil
 ities while promoting your loved one’s independence\, dignity\, and qualit
 y of life.\n\nSpeaker: Peter Chung\, MPH\, CDP\, SYNERGY Homecare\n\n<b>Th
 is class will be held both virtually and in-person in Fairfax. Please sele
 ct your attendance type when you register.</b>\n\nThe in-person session wi
 ll be held in the Mazawey Education and Support Center\, 3955 Pender Drive
 \, Suite 100\, Fairfax\, VA 22030.\n\nVirtual attendees will receive Zoom 
 information prior to the class.\n\nThis program is a part of our monthly C
 are Partner Training series. All sessions are FREE\, and held the second W
 ednesday of each month from 1:00 to 2:30 pm.\n\n\n&nbsp\;\n<strong><a href
 ='https://insightmemory.app.neoncrm.com/eventReg.jsp?event=2850&' class='b
 utton'>Sign Me Up - In Person</a></strong>\n\n<strong><a href='https://ins
 ightmemory.app.neoncrm.com/eventReg.jsp?event=2845&' class='button'>Sign M
 e Up - Virtual</a></strong>\n\n
DTSTART;TZID=America/New_York:20251008T130000
DTEND;TZID=America/New_York:20251008T143000
LOCATION:Hybrid! Virtual and in-person at Insight Memory Care Center - Fair
 fax
SUMMARY:Care Partner Training: Strategies for Aging in Place with Dementia
END:VEVENT
END:VCALENDAR
