BEGIN:VCALENDAR
VERSION:2.0
PRODID:-//www.insightmcc.org//NONSGML kigkonsult.se iCalcreator 2.30.10//
CALSCALE:GREGORIAN
METHOD:PUBLISH
UID:1f391b99-9926-4f87-b18a-58c16385b5f4
X-WR-CALDESC:Join us for a special VIRTUAL screening of SPARK: Robin Willia
 ms and His Battle with Lewy Body Dementia. This free event will be held vi
 a Zoom\, featuring a live panel discussion with the Lewy Body Dementia Ass
 ociation following the film. Gain valuable insights into Lewy Body Dementi
 a through the lens of Robin Williams’ experience.\n\n\n&nbsp\;\n<strong><a
  href='https://insightmemory.app.neoncrm.com/eventReg.jsp?event=2595&' tar
 get='_blank' class='button' rel='noreferrer noopener'>Sign Me Up!</a></str
 ong>
X-WR-RELCALID:bbbacc1c6bd0d22607084073069d6132
X-WR-TIMEZONE:America/New_York
BEGIN:VTIMEZONE
TZID:America/New_York
BEGIN:STANDARD
TZNAME:EST
DTSTART:20241103T020000
TZOFFSETFROM:-0400
TZOFFSETTO:-0500
RDATE:20251102T020000
RDATE:20261101T020000
END:STANDARD
BEGIN:DAYLIGHT
TZNAME:EDT
DTSTART:20250309T020000
TZOFFSETFROM:-0500
TZOFFSETTO:-0400
RDATE:20260308T020000
RDATE:20270314T020000
END:DAYLIGHT
END:VTIMEZONE
BEGIN:VEVENT
UID:1231d046-4f2d-499e-becc-afbf8a0b8dd2
DTSTAMP:20260422T114655Z
DESCRIPTION:Join us for a special VIRTUAL screening of SPARK: Robin William
 s and His Battle with Lewy Body Dementia. This free event will be held via
  Zoom\, featuring a live panel discussion with the Lewy Body Dementia Asso
 ciation following the film. Gain valuable insights into Lewy Body Dementia
  through the lens of Robin Williams’ experience.\n\n\n&nbsp\;\n<strong><a 
 href='https://insightmemory.app.neoncrm.com/eventReg.jsp?event=2595&' targ
 et='_blank' class='button' rel='noreferrer noopener'>Sign Me Up!</a></stro
 ng>
DTSTART;TZID=America/New_York:20251009T180000
DTEND;TZID=America/New_York:20251009T193000
LOCATION:Virtual! Zoom link provided upon registration.
SUMMARY:SPARK Movie Screening and Q&A (Virtual)
END:VEVENT
END:VCALENDAR
