BEGIN:VCALENDAR
VERSION:2.0
PRODID:-//www.insightmcc.org//NONSGML kigkonsult.se iCalcreator 2.30.10//
CALSCALE:GREGORIAN
METHOD:PUBLISH
UID:e1e30e52-19e6-494b-bda5-c8b476a969a8
X-WR-CALDESC:Insight will be closed for Indigenous Peoples' Day. Enjoy your
  holiday!
X-WR-RELCALID:f31974865cd454dccd06b101a1bcf558
X-WR-TIMEZONE:America/New_York
BEGIN:VTIMEZONE
TZID:America/New_York
BEGIN:STANDARD
TZNAME:EST
DTSTART:20241103T020000
TZOFFSETFROM:-0400
TZOFFSETTO:-0500
RDATE:20251102T020000
RDATE:20261101T020000
END:STANDARD
BEGIN:DAYLIGHT
TZNAME:EDT
DTSTART:20250309T020000
TZOFFSETFROM:-0500
TZOFFSETTO:-0400
RDATE:20260308T020000
RDATE:20270314T020000
END:DAYLIGHT
END:VTIMEZONE
BEGIN:VEVENT
UID:a448952f-b672-47b5-b805-26dee5ef5e05
DTSTAMP:20260422T114231Z
DESCRIPTION:Insight will be closed for Indigenous Peoples' Day. Enjoy your 
 holiday!
DTSTART;TZID=America/New_York:20251013T060000
DTEND;TZID=America/New_York:20251013T060001
LOCATION:
SUMMARY:Insight Closed
END:VEVENT
END:VCALENDAR
