BEGIN:VCALENDAR
VERSION:2.0
PRODID:-//www.insightmcc.org//NONSGML kigkonsult.se iCalcreator 2.30.10//
CALSCALE:GREGORIAN
METHOD:PUBLISH
UID:cfcc4362-8d1f-4129-b11e-b9fb2dba0f15
X-WR-CALDESC:Dementia Capable Care (DCC) is an evidence-based dementia and 
 behavior training program designed for health care workers that makes a su
 stainable impact.\n\nEarners can apply specialized approaches using Dement
 ia Care Specialists at Crisis Prevention Institute’s (CPI) Dementia Capabl
 e Care Model to: \n(a) optimize function\, safety\, and quality of life th
 rough person-centered and cognitively supportive approaches using Allen Co
 gnitive Levels and Model\n(b) apply CPI’s Crisis Development Model℠ to pre
 vent and de-escalate distress behaviors and\n(c) support families. \n\nEar
 ners of this designation are leaders in a dementia capable workforce and a
 dvocates of a Dementia Capable Society.\n\nCost is $200 per person. \n\n<b
 >This course is a hybrid format. Learners will complete a 4 hour online cl
 ass prior to the in person class. After you complete this registration you
  will receive an email from crisisprevention.com to start the online class
 .</b>\n\nIn person portion details: October 16 from 9:00 am - 1:30 pm at I
 nsight - Sterling.\n\n&nbsp\;\n<strong><a href='https://insightmemory.app.
 neoncrm.com/np/clients/insightmemory/eventRegistration.jsp?event=2605&' ta
 rget='_blank' class='button' rel='noreferrer noopener'>Sign Me Up!</a></st
 rong>
X-WR-RELCALID:311a826fd46ba65d1f548ed359731fff
X-WR-TIMEZONE:America/New_York
BEGIN:VTIMEZONE
TZID:America/New_York
BEGIN:STANDARD
TZNAME:EST
DTSTART:20241103T020000
TZOFFSETFROM:-0400
TZOFFSETTO:-0500
RDATE:20251102T020000
RDATE:20261101T020000
END:STANDARD
BEGIN:DAYLIGHT
TZNAME:EDT
DTSTART:20250309T020000
TZOFFSETFROM:-0500
TZOFFSETTO:-0400
RDATE:20260308T020000
RDATE:20270314T020000
END:DAYLIGHT
END:VTIMEZONE
BEGIN:VEVENT
UID:3b383942-9cd7-4bf1-abe7-1445248f17ff
DTSTAMP:20260422T114832Z
DESCRIPTION:Dementia Capable Care (DCC) is an evidence-based dementia and b
 ehavior training program designed for health care workers that makes a sus
 tainable impact.\n\nEarners can apply specialized approaches using Dementi
 a Care Specialists at Crisis Prevention Institute’s (CPI) Dementia Capable
  Care Model to: \n(a) optimize function\, safety\, and quality of life thr
 ough person-centered and cognitively supportive approaches using Allen Cog
 nitive Levels and Model\n(b) apply CPI’s Crisis Development Model℠ to prev
 ent and de-escalate distress behaviors and\n(c) support families. \n\nEarn
 ers of this designation are leaders in a dementia capable workforce and ad
 vocates of a Dementia Capable Society.\n\nCost is $200 per person. \n\n<b>
 This course is a hybrid format. Learners will complete a 4 hour online cla
 ss prior to the in person class. After you complete this registration you 
 will receive an email from crisisprevention.com to start the online class.
 </b>\n\nIn person portion details: October 16 from 9:00 am - 1:30 pm at In
 sight - Sterling.\n\n&nbsp\;\n<strong><a href='https://insightmemory.app.n
 eoncrm.com/np/clients/insightmemory/eventRegistration.jsp?event=2605&' tar
 get='_blank' class='button' rel='noreferrer noopener'>Sign Me Up!</a></str
 ong>
DTSTART;TZID=America/New_York:20251016T090000
DTEND;TZID=America/New_York:20251016T133000
LOCATION:Insight Memory Care Center - Sterling\, 45945 Center Oak Plaza\, S
 uite 190\, Sterling\, VA 20166 US
SUMMARY:Dementia Capable Care Specialist (DCC) Training
END:VEVENT
END:VCALENDAR
