BEGIN:VCALENDAR
VERSION:2.0
PRODID:-//www.insightmcc.org//NONSGML kigkonsult.se iCalcreator 2.30.10//
CALSCALE:GREGORIAN
METHOD:PUBLISH
UID:6c0dde12-fb2a-47ad-90cc-894c9fb12c22
X-WR-CALDESC:
X-WR-RELCALID:aa8e68527262f024406ffbe3a4dcee0e
X-WR-TIMEZONE:America/New_York
BEGIN:VTIMEZONE
TZID:America/New_York
BEGIN:STANDARD
TZNAME:EST
DTSTART:20241103T020000
TZOFFSETFROM:-0400
TZOFFSETTO:-0500
RDATE:20251102T020000
RDATE:20261101T020000
END:STANDARD
BEGIN:DAYLIGHT
TZNAME:EDT
DTSTART:20250309T020000
TZOFFSETFROM:-0500
TZOFFSETTO:-0400
RDATE:20260308T020000
RDATE:20270314T020000
END:DAYLIGHT
END:VTIMEZONE
BEGIN:VEVENT
UID:ee0f15a9-fbd6-4d95-a485-74eed3f4bdde
DTSTAMP:20260422T114410Z
DESCRIPTION:
DTSTART;TZID=America/New_York:20251021T133000
DTEND;TZID=America/New_York:20251021T143000
LOCATION:White Springs Senior Living \, 349 Legion Drive\, Warrenton\, VA 2
 0186 US
SUMMARY:Care Support Group
END:VEVENT
END:VCALENDAR
