BEGIN:VCALENDAR
VERSION:2.0
PRODID:-//www.insightmcc.org//NONSGML kigkonsult.se iCalcreator 2.30.10//
CALSCALE:GREGORIAN
METHOD:PUBLISH
UID:e93cc4c7-2242-4353-88e0-d29036a268e2
X-WR-CALDESC:Dental care is crucial for individuals with dementia as they a
 re more susceptible to oral health problems due to cognitive decline and c
 hanges in eating habits. Let's learn how to manage oral care and dental vi
 sits for our older adults with dementia. \n\n<b>This class will be held bo
 th virtually and in-person in Fairfax. Please select your attendance type 
 when you register.</b>\n\nThe in-person session will be held in the Mazawe
 y Education and Support Center\, 3955 Pender Drive\, Suite 100\, Fairfax\,
  VA 22030.\n\nVirtual attendees will receive Zoom information prior to the
  class.\n\nThis program is a part of our monthly Care Partner Training ser
 ies. All sessions are FREE\, and held the second Wednesday of each month f
 rom 1:00 to 2:30 pm.\n\n\n&nbsp\;\n<strong><a href='https://insightmemory.
 app.neoncrm.com/eventReg.jsp?event=2615&' class='button'>Sign Me Up - In P
 erson</a></strong>\n\n<strong><a href='https://insightmemory.app.neoncrm.c
 om/eventReg.jsp?event=2610&' class='button'>Sign Me Up - Virtual</a></stro
 ng>\n\n\n<b>Presenter</b>\n<i>Dr. Gursimran Kaur Bhangra\, DDS\, BDS</i>\n
 \nDr. Gursimran Kaur Bhangra first began her dental career by earning a Ba
 chelor in Dental Surgery (BDS) from the prestigious Manipal College of Den
 tal Sciences\, ranked among India’s top 10 dental schools. After immigrati
 ng to the United States\, Dr. Bhangra completed a Doctor of Dental Surgery
  (DDS) program with honors at SUNY Buffalo School of Dental Medicine\, a c
 onsistently top-rated dental school in the country.\n\nDr. Bhangra is comm
 itted to providing high-quality\, individualized dental care. She tailors 
 each treatment plan to optimize both the oral and overall health of her pa
 tients. A key aspect of her treatment philosophy is fostering open\, bilat
 eral communication to ensure transparency and patient involvement in every
  step of the treatment process.\n\nTo stay at the forefront of dentistry\,
  Dr. Bhangra actively participates in continuing education courses\, with 
 a particular focus on cosmetic and implant dentistry. Her dedication to eq
 uitable dental care is evident through her leadership in various charitabl
 e mission trips\, bringing essential dental services to underserved and ma
 rginalized communities.\n\nIn her free time\, Dr. Bhangra enjoys staying a
 ctive and is a regular participant in group fitness classes at the gym.\n
 \n
X-WR-RELCALID:39f6ec469a0144426f9011df02070848
X-WR-TIMEZONE:America/New_York
BEGIN:VTIMEZONE
TZID:America/New_York
BEGIN:STANDARD
TZNAME:EST
DTSTART:20251102T020000
TZOFFSETFROM:-0400
TZOFFSETTO:-0500
RDATE:20261101T020000
END:STANDARD
BEGIN:DAYLIGHT
TZNAME:EDT
DTSTART:20250309T020000
TZOFFSETFROM:-0500
TZOFFSETTO:-0400
RDATE:20260308T020000
RDATE:20270314T020000
END:DAYLIGHT
END:VTIMEZONE
BEGIN:VEVENT
UID:b5e4f897-dc0e-43e4-a14f-c3d9996148fc
DTSTAMP:20260422T131552Z
DESCRIPTION:Dental care is crucial for individuals with dementia as they ar
 e more susceptible to oral health problems due to cognitive decline and ch
 anges in eating habits. Let's learn how to manage oral care and dental vis
 its for our older adults with dementia. \n\n<b>This class will be held bot
 h virtually and in-person in Fairfax. Please select your attendance type w
 hen you register.</b>\n\nThe in-person session will be held in the Mazawey
  Education and Support Center\, 3955 Pender Drive\, Suite 100\, Fairfax\, 
 VA 22030.\n\nVirtual attendees will receive Zoom information prior to the 
 class.\n\nThis program is a part of our monthly Care Partner Training seri
 es. All sessions are FREE\, and held the second Wednesday of each month fr
 om 1:00 to 2:30 pm.\n\n\n&nbsp\;\n<strong><a href='https://insightmemory.a
 pp.neoncrm.com/eventReg.jsp?event=2615&' class='button'>Sign Me Up - In Pe
 rson</a></strong>\n\n<strong><a href='https://insightmemory.app.neoncrm.co
 m/eventReg.jsp?event=2610&' class='button'>Sign Me Up - Virtual</a></stron
 g>\n\n\n<b>Presenter</b>\n<i>Dr. Gursimran Kaur Bhangra\, DDS\, BDS</i>\n
 \nDr. Gursimran Kaur Bhangra first began her dental career by earning a Ba
 chelor in Dental Surgery (BDS) from the prestigious Manipal College of Den
 tal Sciences\, ranked among India’s top 10 dental schools. After immigrati
 ng to the United States\, Dr. Bhangra completed a Doctor of Dental Surgery
  (DDS) program with honors at SUNY Buffalo School of Dental Medicine\, a c
 onsistently top-rated dental school in the country.\n\nDr. Bhangra is comm
 itted to providing high-quality\, individualized dental care. She tailors 
 each treatment plan to optimize both the oral and overall health of her pa
 tients. A key aspect of her treatment philosophy is fostering open\, bilat
 eral communication to ensure transparency and patient involvement in every
  step of the treatment process.\n\nTo stay at the forefront of dentistry\,
  Dr. Bhangra actively participates in continuing education courses\, with 
 a particular focus on cosmetic and implant dentistry. Her dedication to eq
 uitable dental care is evident through her leadership in various charitabl
 e mission trips\, bringing essential dental services to underserved and ma
 rginalized communities.\n\nIn her free time\, Dr. Bhangra enjoys staying a
 ctive and is a regular participant in group fitness classes at the gym.\n
 \n
DTSTART;TZID=America/New_York:20251112T130000
DTEND;TZID=America/New_York:20251112T143000
LOCATION:Hybrid! Virtual and in-person at Insight Memory Care Center - Fair
 fax
SUMMARY:Dental Care for People with Dementia
END:VEVENT
END:VCALENDAR
