BEGIN:VCALENDAR
VERSION:2.0
PRODID:-//www.insightmcc.org//NONSGML kigkonsult.se iCalcreator 2.30.10//
CALSCALE:GREGORIAN
METHOD:PUBLISH
UID:4a75f1f7-c8d2-4138-a55f-35a0c8f65e3d
X-WR-CALDESC:Gain valuable insights into the different types of dementia an
 d learn how to support those living with it. Don’t miss this opportunity t
 o enhance your understanding and ask questions.\n\n•	Lewy Body Dementia (LB
 D)\n•	Vascular Dementia\n•	Frontotemporal Dementia (FTD)\n•	Alzheimer’s\n•	CTE
  Dementia\n\n\nThis virtual presentation is hosted by DFA of Northern Prin
 ce George's County and presented by Insight. Please contact the event cont
 act below to register and receive the virtual link.
X-WR-RELCALID:55a4baacaf456b3385c1c454e65ddef4
X-WR-TIMEZONE:America/New_York
BEGIN:VTIMEZONE
TZID:America/New_York
BEGIN:STANDARD
TZNAME:EST
DTSTART:20251102T020000
TZOFFSETFROM:-0400
TZOFFSETTO:-0500
RDATE:20261101T020000
END:STANDARD
BEGIN:DAYLIGHT
TZNAME:EDT
DTSTART:20250309T020000
TZOFFSETFROM:-0500
TZOFFSETTO:-0400
RDATE:20260308T020000
RDATE:20270314T020000
END:DAYLIGHT
END:VTIMEZONE
BEGIN:VEVENT
UID:27c4c588-ccab-4cb3-a6ed-3086c025a197
DTSTAMP:20260422T170509Z
DESCRIPTION:Gain valuable insights into the different types of dementia and
  learn how to support those living with it. Don’t miss this opportunity to
  enhance your understanding and ask questions.\n\n•	Lewy Body Dementia (LBD
 )\n•	Vascular Dementia\n•	Frontotemporal Dementia (FTD)\n•	Alzheimer’s\n•	CTE 
 Dementia\n\n\nThis virtual presentation is hosted by DFA of Northern Princ
 e George's County and presented by Insight. Please contact the event conta
 ct below to register and receive the virtual link.
DTSTART;TZID=America/New_York:20251113T190000
DTEND;TZID=America/New_York:20251113T200000
LOCATION:Virtual
SUMMARY:A Deep Dive Into The Five Dementias
END:VEVENT
END:VCALENDAR
