BEGIN:VCALENDAR
VERSION:2.0
PRODID:-//www.insightmcc.org//NONSGML kigkonsult.se iCalcreator 2.30.10//
CALSCALE:GREGORIAN
METHOD:PUBLISH
UID:5e1f8102-e0cb-439b-acde-7e5302c37b55
X-WR-CALDESC:Meet Me: Community Outings are free\, and give families living
  with mild cognitive impairment (MCI) or early stage memory loss an opport
 unity to connect and stay engaged in the community\, in a safe and support
 ive way. Outings are designed for both the diagnosed individual and a care
  partner or friend to participate together\, and meet new friends in the p
 rocess!\n\nRecharge outdoors with a short scenic hike\, light personalized
  exercises by Fit All Around\, and fun team-building games that boost crea
 tivity\, problem-solving\, and connection — the perfect mix of movement an
 d mental refresh in nature.\n\n \n&nbsp\;\n<strong><a href='https://insigh
 tmemory.app.neoncrm.com/nx/portal/neonevents/events?path=%2Fportal%2Fevent
 s%2F28361%2Fstorefront%2F154698' target='_blank' class='button' rel='noref
 errer noopener'>Sign Me Up!</a></strong>\n\n
X-WR-RELCALID:b2764ed7d8b53fb4e8f166f9436f4b30
X-WR-TIMEZONE:America/New_York
BEGIN:VTIMEZONE
TZID:America/New_York
BEGIN:STANDARD
TZNAME:EST
DTSTART:20251102T020000
TZOFFSETFROM:-0400
TZOFFSETTO:-0500
RDATE:20261101T020000
END:STANDARD
BEGIN:DAYLIGHT
TZNAME:EDT
DTSTART:20250309T020000
TZOFFSETFROM:-0500
TZOFFSETTO:-0400
RDATE:20260308T020000
RDATE:20270314T020000
END:DAYLIGHT
END:VTIMEZONE
BEGIN:VEVENT
UID:bd443ab9-9a23-4759-9732-1cd13003e504
DTSTAMP:20260422T131227Z
DESCRIPTION:Meet Me: Community Outings are free\, and give families living 
 with mild cognitive impairment (MCI) or early stage memory loss an opportu
 nity to connect and stay engaged in the community\, in a safe and supporti
 ve way. Outings are designed for both the diagnosed individual and a care 
 partner or friend to participate together\, and meet new friends in the pr
 ocess!\n\nRecharge outdoors with a short scenic hike\, light personalized 
 exercises by Fit All Around\, and fun team-building games that boost creat
 ivity\, problem-solving\, and connection — the perfect mix of movement and
  mental refresh in nature.\n\n \n&nbsp\;\n<strong><a href='https://insight
 memory.app.neoncrm.com/nx/portal/neonevents/events?path=%2Fportal%2Fevents
 %2F28361%2Fstorefront%2F154698' target='_blank' class='button' rel='norefe
 rrer noopener'>Sign Me Up!</a></strong>\n\n
DTSTART;TZID=America/New_York:20251113T103000
DTEND;TZID=America/New_York:20251113T123000
LOCATION:47001 Fairway Drive \, Algonkian\, Sterling\, VA 20165 US
SUMMARY:Meet Me: At Algonkian Regional Park
END:VEVENT
END:VCALENDAR
