BEGIN:VCALENDAR
VERSION:2.0
PRODID:-//www.insightmcc.org//NONSGML kigkonsult.se iCalcreator 2.30.10//
CALSCALE:GREGORIAN
METHOD:PUBLISH
UID:50c02bab-1c4d-402c-a045-eee7c0efabdc
X-WR-CALDESC:JOIN US FOR A LUNCH & LEARN!\nCome to hear about ways to maint
 ain good brain health and hear about updates in Alzheimer’s treatment and 
 the latest advances research.\n\n\n&nbsp\;\n<strong><a href='https://insig
 htmemory.app.neoncrm.com/nx/portal/neonevents/events?path=%2Fportal%2Feven
 ts%2F28527' class='button'>Sign Me Up!</a></strong>
X-WR-RELCALID:a39a31a9f9625021d9656f715ff02f91
X-WR-TIMEZONE:America/New_York
BEGIN:VTIMEZONE
TZID:America/New_York
BEGIN:STANDARD
TZNAME:EST
DTSTART:20251102T020000
TZOFFSETFROM:-0400
TZOFFSETTO:-0500
RDATE:20261101T020000
END:STANDARD
BEGIN:DAYLIGHT
TZNAME:EDT
DTSTART:20250309T020000
TZOFFSETFROM:-0500
TZOFFSETTO:-0400
RDATE:20260308T020000
RDATE:20270314T020000
END:DAYLIGHT
END:VTIMEZONE
BEGIN:VEVENT
UID:f1e6f407-aee0-4dd0-a028-e5815bf2369f
DTSTAMP:20260422T131416Z
DESCRIPTION:JOIN US FOR A LUNCH & LEARN!\nCome to hear about ways to mainta
 in good brain health and hear about updates in Alzheimer’s treatment and t
 he latest advances research.\n\n\n&nbsp\;\n<strong><a href='https://insigh
 tmemory.app.neoncrm.com/nx/portal/neonevents/events?path=%2Fportal%2Fevent
 s%2F28527' class='button'>Sign Me Up!</a></strong>
DTSTART;TZID=America/New_York:20251119T123000
DTEND;TZID=America/New_York:20251119T140000
LOCATION:3955 Pender Drive Suite 100\, Insight Memory Care Day Center\, Fai
 rfax\, VA 22030 US
SUMMARY:Your Journey to Good Brain Health
END:VEVENT
END:VCALENDAR
