BEGIN:VCALENDAR
VERSION:2.0
PRODID:-//www.insightmcc.org//NONSGML kigkonsult.se iCalcreator 2.30.10//
CALSCALE:GREGORIAN
METHOD:PUBLISH
UID:e1d7a87f-890f-4b03-8678-a6d8fd162988
X-WR-CALDESC:Getting a diagnosis of dementia can be quite a shock – or\, fo
 r some people\, a sense of relief! And\, if you’re a loved one of someone 
 who has dementia\, understanding how to plan ahead while also adjusting to
  the “new normal” is so important.\n\nPresenter\, Lindsey Vajpeyi\nHosted 
 by Silver Bridges Consulting
X-WR-RELCALID:077a2b34e938f6fee6a2dfc373d9f691
X-WR-TIMEZONE:America/New_York
BEGIN:VTIMEZONE
TZID:America/New_York
BEGIN:STANDARD
TZNAME:EST
DTSTART:20251102T020000
TZOFFSETFROM:-0400
TZOFFSETTO:-0500
RDATE:20261101T020000
END:STANDARD
BEGIN:DAYLIGHT
TZNAME:EDT
DTSTART:20250309T020000
TZOFFSETFROM:-0500
TZOFFSETTO:-0400
RDATE:20260308T020000
RDATE:20270314T020000
END:DAYLIGHT
END:VTIMEZONE
BEGIN:VEVENT
UID:7bf94303-4804-4b3a-9a7e-7d26ad12d5bb
DTSTAMP:20260422T131106Z
DESCRIPTION:Getting a diagnosis of dementia can be quite a shock – or\, for
  some people\, a sense of relief! And\, if you’re a loved one of someone w
 ho has dementia\, understanding how to plan ahead while also adjusting to 
 the “new normal” is so important.\n\nPresenter\, Lindsey Vajpeyi\nHosted b
 y Silver Bridges Consulting
DTSTART;TZID=America/New_York:20251120T190000
DTEND;TZID=America/New_York:20251120T200000
LOCATION:Virtual
SUMMARY:Diagnosis Dementia: Now What
END:VEVENT
END:VCALENDAR
