BEGIN:VCALENDAR
VERSION:2.0
PRODID:-//www.insightmcc.org//NONSGML kigkonsult.se iCalcreator 2.30.10//
CALSCALE:GREGORIAN
METHOD:PUBLISH
UID:f188a8da-73ad-42e8-a741-657ff233317f
X-WR-CALDESC:\nDiscover insights from Barry Jacobs\, Julie Mayer and Rachae
 l Wonderlin\, experts on caregiving\, aging and \ndementia. Walk away with
  useful tips\, tools\, local resources\, and connections with fellow careg
 ivers. Respite available at Insight Memory Care Day Center.
X-WR-RELCALID:8f460417025dde80be8d204f29fbd02b
X-WR-TIMEZONE:America/New_York
BEGIN:VTIMEZONE
TZID:America/New_York
BEGIN:STANDARD
TZNAME:EST
DTSTART:20251102T020000
TZOFFSETFROM:-0400
TZOFFSETTO:-0500
RDATE:20261101T020000
END:STANDARD
BEGIN:DAYLIGHT
TZNAME:EDT
DTSTART:20250309T020000
TZOFFSETFROM:-0500
TZOFFSETTO:-0400
RDATE:20260308T020000
RDATE:20270314T020000
END:DAYLIGHT
END:VTIMEZONE
BEGIN:VEVENT
UID:56343f08-9a1e-426b-a9b8-577ed6ca20ea
DTSTAMP:20260422T131613Z
DESCRIPTION:\nDiscover insights from Barry Jacobs\, Julie Mayer and Rachael
  Wonderlin\, experts on caregiving\, aging and \ndementia. Walk away with 
 useful tips\, tools\, local resources\, and connections with fellow caregi
 vers. Respite available at Insight Memory Care Day Center.
DTSTART;TZID=America/New_York:20251122T083000
DTEND;TZID=America/New_York:20251122T160000
LOCATION:1200 Government Center Pkwy\, Fairfax Government Center\, Fairfax\
 , VA 22030 US
SUMMARY:Northern Virginia Dementia Care Consortium
END:VEVENT
END:VCALENDAR
