BEGIN:VCALENDAR
VERSION:2.0
PRODID:-//www.insightmcc.org//NONSGML kigkonsult.se iCalcreator 2.30.10//
CALSCALE:GREGORIAN
METHOD:PUBLISH
UID:5b846c25-61d0-4f3f-b487-cdbe10ee0beb
X-WR-CALDESC:Insight will be closed for Thanksgiving. Enjoy your holiday!
X-WR-RELCALID:fe81aa914a67780c85958dda358163de
X-WR-TIMEZONE:America/New_York
BEGIN:VTIMEZONE
TZID:America/New_York
BEGIN:STANDARD
TZNAME:EST
DTSTART:20251102T020000
TZOFFSETFROM:-0400
TZOFFSETTO:-0500
RDATE:20261101T020000
END:STANDARD
BEGIN:DAYLIGHT
TZNAME:EDT
DTSTART:20250309T020000
TZOFFSETFROM:-0500
TZOFFSETTO:-0400
RDATE:20260308T020000
RDATE:20270314T020000
END:DAYLIGHT
END:VTIMEZONE
BEGIN:VEVENT
UID:3db7d6d1-0d97-4ef6-bc72-8360d52ac912
DTSTAMP:20260422T130747Z
DESCRIPTION:Insight will be closed for Thanksgiving. Enjoy your holiday!
DTSTART;TZID=America/New_York:20251127T060000
DTEND;TZID=America/New_York:20251128T060001
LOCATION:
SUMMARY:Insight Closed
END:VEVENT
END:VCALENDAR
