BEGIN:VCALENDAR
VERSION:2.0
PRODID:-//www.insightmcc.org//NONSGML kigkonsult.se iCalcreator 2.30.10//
CALSCALE:GREGORIAN
METHOD:PUBLISH
UID:eadd327e-97d5-42dc-99a8-1e099d615662
X-WR-CALDESC:This Giving Tuesday\, we invite you to support our mission by 
 helping us continue providing compassionate care\, meaningful activities\,
  and vital services for those living with dementia. Your generosity truly 
 makes a difference in the lives of the individuals and families we serve.
X-WR-RELCALID:090c52d1e8a666f7486497da39f069e3
X-WR-TIMEZONE:America/New_York
BEGIN:VTIMEZONE
TZID:America/New_York
BEGIN:STANDARD
TZNAME:EST
DTSTART:20251102T020000
TZOFFSETFROM:-0400
TZOFFSETTO:-0500
RDATE:20261101T020000
END:STANDARD
BEGIN:DAYLIGHT
TZNAME:EDT
DTSTART:20250309T020000
TZOFFSETFROM:-0500
TZOFFSETTO:-0400
RDATE:20260308T020000
RDATE:20270314T020000
END:DAYLIGHT
END:VTIMEZONE
BEGIN:VEVENT
UID:c37fd61a-4e9b-457a-9a85-8e943774cbd5
DTSTAMP:20260422T143557Z
DESCRIPTION:This Giving Tuesday\, we invite you to support our mission by h
 elping us continue providing compassionate care\, meaningful activities\, 
 and vital services for those living with dementia. Your generosity truly m
 akes a difference in the lives of the individuals and families we serve.
DTSTART;TZID=America/New_York:20251202T060000
DTEND;TZID=America/New_York:20251202T060001
LOCATION:Insight Memory Care Center \, 3953 Pender Drive Suite 100\, Fairfa
 x\, AL 22030 US
SUMMARY:Giving Tuesday
END:VEVENT
END:VCALENDAR
