BEGIN:VCALENDAR
VERSION:2.0
PRODID:-//www.insightmcc.org//NONSGML kigkonsult.se iCalcreator 2.30.10//
CALSCALE:GREGORIAN
METHOD:PUBLISH
UID:ec9e1d7d-2ba0-4612-8918-e10071b00dc0
X-WR-CALDESC:Choosing a gift for someone living with dementia can feel chal
 lenging\, but it’s also an opportunity to show love\, spark joy\, and stre
 ngthen relationships. Join us for an inspiring session the discover though
 tful\, dementia-friendly gift ideas that bring comfort\, encourage engagem
 ent\, and make the season special for both you and your loved one. \n\nPre
 senter\, Lindsey Vajpeyi
X-WR-RELCALID:2d27558fc6e4d99099d73efb6765fc8f
X-WR-TIMEZONE:America/New_York
BEGIN:VTIMEZONE
TZID:America/New_York
BEGIN:STANDARD
TZNAME:EST
DTSTART:20251102T020000
TZOFFSETFROM:-0400
TZOFFSETTO:-0500
RDATE:20261101T020000
END:STANDARD
BEGIN:DAYLIGHT
TZNAME:EDT
DTSTART:20250309T020000
TZOFFSETFROM:-0500
TZOFFSETTO:-0400
RDATE:20260308T020000
RDATE:20270314T020000
END:DAYLIGHT
END:VTIMEZONE
BEGIN:VEVENT
UID:f1369857-32e8-462c-a747-104951f4e406
DTSTAMP:20260422T144319Z
DESCRIPTION:Choosing a gift for someone living with dementia can feel chall
 enging\, but it’s also an opportunity to show love\, spark joy\, and stren
 gthen relationships. Join us for an inspiring session the discover thought
 ful\, dementia-friendly gift ideas that bring comfort\, encourage engageme
 nt\, and make the season special for both you and your loved one. \n\nPres
 enter\, Lindsey Vajpeyi
DTSTART;TZID=America/New_York:20251204T180000
DTEND;TZID=America/New_York:20251204T190000
LOCATION:The Kensington Falls Church \, 700 W Broad Street \, Falls Church\
 , VA 22046 US
SUMMARY:Purposeful Holiday Gifts for Loved Ones Living with Dementia
END:VEVENT
END:VCALENDAR
