BEGIN:VCALENDAR
VERSION:2.0
PRODID:-//www.insightmcc.org//NONSGML kigkonsult.se iCalcreator 2.30.10//
CALSCALE:GREGORIAN
METHOD:PUBLISH
UID:87e1b5a0-7a88-4cf3-815a-d5fa02a65289
X-WR-CALDESC:Join Insight for a free\, Saturday morning training event cove
 ring many essential caregiving topics!\n\n&nbsp\;\n<strong><a href='https:
 //insightmemory.app.neoncrm.com/eventReg.jsp?event=2780&' target='_blank' 
 class='button' rel='noreferrer noopener'>Sign Me Up!</a></strong>
X-WR-RELCALID:a7394ad5e0b51ca511465177180d26a6
X-WR-TIMEZONE:America/New_York
BEGIN:VTIMEZONE
TZID:America/New_York
BEGIN:STANDARD
TZNAME:EST
DTSTART:20251102T020000
TZOFFSETFROM:-0400
TZOFFSETTO:-0500
RDATE:20261101T020000
END:STANDARD
BEGIN:DAYLIGHT
TZNAME:EDT
DTSTART:20250309T020000
TZOFFSETFROM:-0500
TZOFFSETTO:-0400
RDATE:20260308T020000
RDATE:20270314T020000
END:DAYLIGHT
END:VTIMEZONE
BEGIN:VEVENT
UID:214ed669-8209-4d87-ab38-c3f1308fcfc0
DTSTAMP:20260422T143527Z
DESCRIPTION:Join Insight for a free\, Saturday morning training event cover
 ing many essential caregiving topics!\n\n&nbsp\;\n<strong><a href='https:/
 /insightmemory.app.neoncrm.com/eventReg.jsp?event=2780&' target='_blank' c
 lass='button' rel='noreferrer noopener'>Sign Me Up!</a></strong>
DTSTART;TZID=America/New_York:20251206T090000
DTEND;TZID=America/New_York:20251206T120000
LOCATION:Insight Memory Care Center - Fairfax \, 3953 Pender Drive Suite 10
 0\, Fairfax\, VA 22030 US
SUMMARY:Caregiver Bootcamp
END:VEVENT
END:VCALENDAR
