BEGIN:VCALENDAR
VERSION:2.0
PRODID:-//www.insightmcc.org//NONSGML kigkonsult.se iCalcreator 2.30.10//
CALSCALE:GREGORIAN
METHOD:PUBLISH
UID:c3bd32ae-d74a-4520-86d3-daada9727325
X-WR-CALDESC:Complimentary Holiday Respite Day!\n\nGive yourself the gift o
 f time this holiday season.\n\nHoliday respite care for your loved one\, b
 reakfast provided by Chick fil A\, festive activities and holiday cheer cr
 eated by our Insight team\, a perfect opportunity to complete your holiday
  errands\, shopping\, and preparations.\n\n\n&nbsp\;\n<strong><a href='htt
 ps://insightmemory.app.neoncrm.com/nx/portal/neonevents/events?path=%2Fpor
 tal%2Fevents%2F29573' class='button'>Sign Me Up!</a></strong>\n\n
X-WR-RELCALID:4d8089a6be5b682d72a4ae844170a37c
X-WR-TIMEZONE:America/New_York
BEGIN:VTIMEZONE
TZID:America/New_York
BEGIN:STANDARD
TZNAME:EST
DTSTART:20251102T020000
TZOFFSETFROM:-0400
TZOFFSETTO:-0500
RDATE:20261101T020000
END:STANDARD
BEGIN:DAYLIGHT
TZNAME:EDT
DTSTART:20250309T020000
TZOFFSETFROM:-0500
TZOFFSETTO:-0400
RDATE:20260308T020000
RDATE:20270314T020000
END:DAYLIGHT
END:VTIMEZONE
BEGIN:VEVENT
UID:1fdb1a52-14ef-4594-8e07-45a2adcc800e
DTSTAMP:20260422T143702Z
DESCRIPTION:Complimentary Holiday Respite Day!\n\nGive yourself the gift of
  time this holiday season.\n\nHoliday respite care for your loved one\, br
 eakfast provided by Chick fil A\, festive activities and holiday cheer cre
 ated by our Insight team\, a perfect opportunity to complete your holiday 
 errands\, shopping\, and preparations.\n\n\n&nbsp\;\n<strong><a href='http
 s://insightmemory.app.neoncrm.com/nx/portal/neonevents/events?path=%2Fport
 al%2Fevents%2F29573' class='button'>Sign Me Up!</a></strong>\n\n
DTSTART;TZID=America/New_York:20251206T083000
DTEND;TZID=America/New_York:20251206T120000
LOCATION:3953 Pender Drive Suite 100\, Insight Memory Care Day Center\, Fai
 rfax\, VA 22030 US
SUMMARY:Participant Holiday Respite Day
END:VEVENT
END:VCALENDAR
