BEGIN:VCALENDAR
VERSION:2.0
PRODID:-//www.insightmcc.org//NONSGML kigkonsult.se iCalcreator 2.30.10//
CALSCALE:GREGORIAN
METHOD:PUBLISH
UID:c1f1a171-e759-43a8-95a3-d86a0f71470a
X-WR-CALDESC:
X-WR-RELCALID:936953875abfe7035c5e2aad540ef273
X-WR-TIMEZONE:America/New_York
BEGIN:VTIMEZONE
TZID:America/New_York
BEGIN:STANDARD
TZNAME:EST
DTSTART:20251102T020000
TZOFFSETFROM:-0400
TZOFFSETTO:-0500
RDATE:20261101T020000
END:STANDARD
BEGIN:DAYLIGHT
TZNAME:EDT
DTSTART:20250309T020000
TZOFFSETFROM:-0500
TZOFFSETTO:-0400
RDATE:20260308T020000
RDATE:20270314T020000
END:DAYLIGHT
END:VTIMEZONE
BEGIN:VEVENT
UID:8a98744b-80f3-4fc8-9178-97742444acd7
DTSTAMP:20260422T143804Z
DESCRIPTION:
DTSTART;TZID=America/New_York:20251210T163000
DTEND;TZID=America/New_York:20251210T173000
LOCATION:12469 Lee Jackson Memorial Hwy\, Arden Courts Fair Oaks\, Fairfax\
 , VA 22030 US
SUMMARY:Arden Courts Fair Oaks Care Support Group
END:VEVENT
END:VCALENDAR
