BEGIN:VCALENDAR
VERSION:2.0
PRODID:-//www.insightmcc.org//NONSGML kigkonsult.se iCalcreator 2.30.10//
CALSCALE:GREGORIAN
METHOD:PUBLISH
UID:6d15092b-5ff6-480b-8d8c-416df7291633
X-WR-CALDESC:Moving can feel overwhelming\, especially when caring for some
 one with dementia. Join us for a helpful workshop where our expert\, Cathe
 rine Sheeran\, Director of Senior Services for Interstate Moving\, Relocat
 ion\, and Logistics\, will share practical tips and thoughtful strategies 
 to make the transition smoother for everyone involved.\n\nWhether you're p
 lanning ahead or in the midst of a move\, you'll discover ways to reduce s
 tress\, organize effectively\, and create a moving plan that honors your l
 oved one's needs and comfort.\n\nCome with your questions and leave with a
 ctionable advice\, helpful resources\, and the confidence to navigate this
  important transition. All are welcome.\n\nThis workshop is perfect for fa
 mily caregivers\, adult children\, and anyone supporting a loved one throu
 gh the moving process.\n\n<b>This class will be held both virtually and in
 -person in Fairfax. Please select your attendance type when you register.<
 /b>\n\nThe in-person session will be held in the Mazawey Education and Sup
 port Center\, 3955 Pender Drive\, Suite 100\, Fairfax\, VA 22030.\n\nVirtu
 al attendees will receive Zoom information prior to the class.\n\nThis pro
 gram is a part of our monthly Care Partner Training series. All sessions a
 re FREE\, and held the second Wednesday of each month from 1:00 to 2:30 pm
 .\n\n\n&nbsp\;\n<strong><a href='https://insightmemory.app.neoncrm.com/np/
 clients/insightmemory/event.jsp?event=2835&' class='button'>Sign Me Up - I
 n Person</a></strong>\n\n<strong><a href='https://insightmemory.app.neoncr
 m.com/np/clients/insightmemory/event.jsp?event=2830&' class='button'>Sign 
 Me Up - Virtual</a></strong>\n\n
X-WR-RELCALID:1d7b691d19570fd0608b04ff2b83cac9
X-WR-TIMEZONE:America/New_York
BEGIN:VTIMEZONE
TZID:America/New_York
BEGIN:STANDARD
TZNAME:EST
DTSTART:20251102T020000
TZOFFSETFROM:-0400
TZOFFSETTO:-0500
RDATE:20261101T020000
END:STANDARD
BEGIN:DAYLIGHT
TZNAME:EDT
DTSTART:20250309T020000
TZOFFSETFROM:-0500
TZOFFSETTO:-0400
RDATE:20260308T020000
RDATE:20270314T020000
END:DAYLIGHT
END:VTIMEZONE
BEGIN:VEVENT
UID:230877ec-1b47-4e9e-a414-985450591430
DTSTAMP:20260422T143641Z
DESCRIPTION:Moving can feel overwhelming\, especially when caring for someo
 ne with dementia. Join us for a helpful workshop where our expert\, Cather
 ine Sheeran\, Director of Senior Services for Interstate Moving\, Relocati
 on\, and Logistics\, will share practical tips and thoughtful strategies t
 o make the transition smoother for everyone involved.\n\nWhether you're pl
 anning ahead or in the midst of a move\, you'll discover ways to reduce st
 ress\, organize effectively\, and create a moving plan that honors your lo
 ved one's needs and comfort.\n\nCome with your questions and leave with ac
 tionable advice\, helpful resources\, and the confidence to navigate this 
 important transition. All are welcome.\n\nThis workshop is perfect for fam
 ily caregivers\, adult children\, and anyone supporting a loved one throug
 h the moving process.\n\n<b>This class will be held both virtually and in-
 person in Fairfax. Please select your attendance type when you register.</
 b>\n\nThe in-person session will be held in the Mazawey Education and Supp
 ort Center\, 3955 Pender Drive\, Suite 100\, Fairfax\, VA 22030.\n\nVirtua
 l attendees will receive Zoom information prior to the class.\n\nThis prog
 ram is a part of our monthly Care Partner Training series. All sessions ar
 e FREE\, and held the second Wednesday of each month from 1:00 to 2:30 pm.
 \n\n\n&nbsp\;\n<strong><a href='https://insightmemory.app.neoncrm.com/np/c
 lients/insightmemory/event.jsp?event=2835&' class='button'>Sign Me Up - In
  Person</a></strong>\n\n<strong><a href='https://insightmemory.app.neoncrm
 .com/np/clients/insightmemory/event.jsp?event=2830&' class='button'>Sign M
 e Up - Virtual</a></strong>\n\n
DTSTART;TZID=America/New_York:20251210T130000
DTEND;TZID=America/New_York:20251210T143000
LOCATION:Hybrid! Virtual and in-person at Insight Memory Care Center - Fair
 fax
SUMMARY:Senior Moving Made Easier
END:VEVENT
END:VCALENDAR
