BEGIN:VCALENDAR
VERSION:2.0
PRODID:-//www.insightmcc.org//NONSGML kigkonsult.se iCalcreator 2.30.10//
CALSCALE:GREGORIAN
METHOD:PUBLISH
UID:20737f85-438f-4bb1-8d3c-8f27e8af7da8
X-WR-CALDESC:Meet Me: Community Outings are free\, and give families living
  with mild cognitive impairment (MCI) or early stage memory loss an opport
 unity to connect and stay engaged in the community\, in a safe and support
 ive way. Outings are designed for both the diagnosed individual and a care
  partner or friend to participate together and meet new friends in the pro
 cess! \nTake a peaceful pause this holiday season with a gentle Chair Yoga
  session featuring simple\, seated movements to promote calm and connectio
 n. Afterward\, enjoy teatime in the lounge with warm drinks\, treats and f
 riendly conversation.\n\n&nbsp\;\n<strong><a href='https://insightmemory.a
 pp.neoncrm.com/nx/portal/neonevents/events?path=%2Fportal%2Fevents%2F28375
 ' class='button'>Sign Me Up!</a></strong>\n\n
X-WR-RELCALID:033c496b3a5bf82f80a4a6e1eb7df94e
X-WR-TIMEZONE:America/New_York
BEGIN:VTIMEZONE
TZID:America/New_York
BEGIN:STANDARD
TZNAME:EST
DTSTART:20251102T020000
TZOFFSETFROM:-0400
TZOFFSETTO:-0500
RDATE:20261101T020000
END:STANDARD
BEGIN:DAYLIGHT
TZNAME:EDT
DTSTART:20250309T020000
TZOFFSETFROM:-0500
TZOFFSETTO:-0400
RDATE:20260308T020000
RDATE:20270314T020000
END:DAYLIGHT
END:VTIMEZONE
BEGIN:VEVENT
UID:24a9f2f9-bf35-4d8f-ac27-848449ba8f09
DTSTAMP:20260422T144022Z
DESCRIPTION:Meet Me: Community Outings are free\, and give families living 
 with mild cognitive impairment (MCI) or early stage memory loss an opportu
 nity to connect and stay engaged in the community\, in a safe and supporti
 ve way. Outings are designed for both the diagnosed individual and a care 
 partner or friend to participate together and meet new friends in the proc
 ess! \nTake a peaceful pause this holiday season with a gentle Chair Yoga 
 session featuring simple\, seated movements to promote calm and connection
 . Afterward\, enjoy teatime in the lounge with warm drinks\, treats and fr
 iendly conversation.\n\n&nbsp\;\n<strong><a href='https://insightmemory.ap
 p.neoncrm.com/nx/portal/neonevents/events?path=%2Fportal%2Fevents%2F28375'
  class='button'>Sign Me Up!</a></strong>\n\n
DTSTART;TZID=America/New_York:20251211T133000
DTEND;TZID=America/New_York:20251211T153000
LOCATION:11109 Sunset Hills Road\, Reston\, VA 20191 US
SUMMARY:Meet Me: Beloved Yoga
END:VEVENT
END:VCALENDAR
