BEGIN:VCALENDAR
VERSION:2.0
PRODID:-//www.insightmcc.org//NONSGML kigkonsult.se iCalcreator 2.30.10//
CALSCALE:GREGORIAN
METHOD:PUBLISH
UID:ae2fb534-6371-4e70-97ed-0e68c9475cbe
X-WR-CALDESC:
X-WR-RELCALID:ece7e124b7eeab815486b0d651d09c95
X-WR-TIMEZONE:America/New_York
BEGIN:VTIMEZONE
TZID:America/New_York
BEGIN:STANDARD
TZNAME:EST
DTSTART:20251102T020000
TZOFFSETFROM:-0400
TZOFFSETTO:-0500
RDATE:20261101T020000
END:STANDARD
BEGIN:DAYLIGHT
TZNAME:EDT
DTSTART:20250309T020000
TZOFFSETFROM:-0500
TZOFFSETTO:-0400
RDATE:20260308T020000
RDATE:20270314T020000
END:DAYLIGHT
END:VTIMEZONE
BEGIN:VEVENT
UID:8b3bba60-612a-4f05-b9ec-d38694ccb056
DTSTAMP:20260422T143558Z
DESCRIPTION:
DTSTART;TZID=America/New_York:20251216T133000
DTEND;TZID=America/New_York:20251216T143000
LOCATION:White Springs Senior Living \, 349 Legion Drive\, Warrenton\, VA 2
 0186 US
SUMMARY:Care Support Group
END:VEVENT
END:VCALENDAR
