BEGIN:VCALENDAR
VERSION:2.0
PRODID:-//www.insightmcc.org//NONSGML kigkonsult.se iCalcreator 2.30.10//
CALSCALE:GREGORIAN
METHOD:PUBLISH
UID:f967712a-b855-4e77-9946-904465449162
X-WR-CALDESC:
X-WR-RELCALID:80bd7071e88da30353db3f16adc0435c
X-WR-TIMEZONE:America/New_York
BEGIN:VTIMEZONE
TZID:America/New_York
BEGIN:STANDARD
TZNAME:EST
DTSTART:20251102T020000
TZOFFSETFROM:-0400
TZOFFSETTO:-0500
RDATE:20261101T020000
END:STANDARD
BEGIN:DAYLIGHT
TZNAME:EDT
DTSTART:20250309T020000
TZOFFSETFROM:-0500
TZOFFSETTO:-0400
RDATE:20260308T020000
RDATE:20270314T020000
END:DAYLIGHT
END:VTIMEZONE
BEGIN:VEVENT
UID:e77db3e3-7c22-41b1-bc2a-af345beb4d5a
DTSTAMP:20260422T160908Z
DESCRIPTION:
DTSTART;TZID=America/New_York:20260114T163000
DTEND;TZID=America/New_York:20260114T173000
LOCATION:12469 Lee Jackson Memorial Hwy\, Arden Courts Fair Oaks\, Fairfax\
 , VA 22030 US
SUMMARY:Arden Courts Fair Oaks Care Support Group
END:VEVENT
END:VCALENDAR
