BEGIN:VCALENDAR
VERSION:2.0
PRODID:-//www.insightmcc.org//NONSGML kigkonsult.se iCalcreator 2.30.10//
CALSCALE:GREGORIAN
METHOD:PUBLISH
UID:103999fc-9c33-4e19-81e9-7fcee9f1f730
X-WR-CALDESC:This class provides care partners with foundational knowledge 
 on the types of dementia\, an overview of their common symptoms\, and a di
 scussion of the disease progression over time.	Our Guest Speaker will be Vi
 vek Sinha\, M.D.\, with Belleview Medical Partners\, P.C.  Lunch served at
  12:00pm\, presentation to follow.\n\n\n&nbsp\;\n<strong><a href='https://
 insightmemory.app.neoncrm.com/nx/portal/neonevents/events?path=%2Fportal%2
 Fevents%2F31329' class='button'>Sign Me Up!</a></strong>
X-WR-RELCALID:5c62bfbbf952eb0be1a1675424ef3a55
X-WR-TIMEZONE:America/New_York
BEGIN:VTIMEZONE
TZID:America/New_York
BEGIN:STANDARD
TZNAME:EST
DTSTART:20251102T020000
TZOFFSETFROM:-0400
TZOFFSETTO:-0500
RDATE:20261101T020000
END:STANDARD
BEGIN:DAYLIGHT
TZNAME:EDT
DTSTART:20250309T020000
TZOFFSETFROM:-0500
TZOFFSETTO:-0400
RDATE:20260308T020000
RDATE:20270314T020000
END:DAYLIGHT
END:VTIMEZONE
BEGIN:VEVENT
UID:26ebee1e-60cd-4052-b338-c9684419346d
DTSTAMP:20260422T160450Z
DESCRIPTION:This class provides care partners with foundational knowledge o
 n the types of dementia\, an overview of their common symptoms\, and a dis
 cussion of the disease progression over time.	Our Guest Speaker will be Viv
 ek Sinha\, M.D.\, with Belleview Medical Partners\, P.C.  Lunch served at 
 12:00pm\, presentation to follow.\n\n\n&nbsp\;\n<strong><a href='https://i
 nsightmemory.app.neoncrm.com/nx/portal/neonevents/events?path=%2Fportal%2F
 events%2F31329' class='button'>Sign Me Up!</a></strong>
DTSTART;TZID=America/New_York:20260114T120000
DTEND;TZID=America/New_York:20260114T133000
LOCATION:3955 Pender Drive Suite 100\, Insight Memory Care Day Center\, Fai
 rfax\, VA 22030 US
SUMMARY:Care Partner Training: Understanding the Diagnosis
END:VEVENT
END:VCALENDAR
