BEGIN:VCALENDAR
VERSION:2.0
PRODID:-//www.insightmcc.org//NONSGML kigkonsult.se iCalcreator 2.30.10//
CALSCALE:GREGORIAN
METHOD:PUBLISH
UID:750f5dcc-8118-4a1c-9792-bdd40d307921
X-WR-CALDESC:
X-WR-RELCALID:43acdfedcde8cd6d5893954a081f691f
X-WR-TIMEZONE:America/New_York
BEGIN:VTIMEZONE
TZID:America/New_York
BEGIN:STANDARD
TZNAME:EST
DTSTART:20251102T020000
TZOFFSETFROM:-0400
TZOFFSETTO:-0500
RDATE:20261101T020000
END:STANDARD
BEGIN:DAYLIGHT
TZNAME:EDT
DTSTART:20250309T020000
TZOFFSETFROM:-0500
TZOFFSETTO:-0400
RDATE:20260308T020000
RDATE:20270314T020000
END:DAYLIGHT
END:VTIMEZONE
BEGIN:VEVENT
UID:5b6f4e38-3812-48c6-af51-b14e85901e5d
DTSTAMP:20260422T161506Z
DESCRIPTION:
DTSTART;TZID=America/New_York:20260119T060000
DTEND;TZID=America/New_York:20260119T060001
LOCATION:3953 Pender Drive Suite 100\, Insight Memory Care Day Center\, Fai
 rfax\, VA 22030 US
SUMMARY:Insight Closed in Observance of Martin Luther King Day
END:VEVENT
END:VCALENDAR
