BEGIN:VCALENDAR
VERSION:2.0
PRODID:-//www.insightmcc.org//NONSGML kigkonsult.se iCalcreator 2.30.10//
CALSCALE:GREGORIAN
METHOD:PUBLISH
UID:63f2b799-1d05-4c18-9700-152997025903
X-WR-CALDESC:Dementia Capable Care (DCC) Specialist Training is an evidence
 -based dementia and behavior training program designed for health care wor
 kers that makes a sustainable impact. This advanced training focuses on pr
 actical solutions to preventing and de-escalating behaviors.\n\nEarners ca
 n apply specialized approaches using Crisis Prevention Institute’s (CPI) D
 ementia Capable Care Model to:\n\n(a) optimize function\, safety\, and qua
 lity of life through person-centered and cognitively supportive approaches
  using Allen Cognitive Levels and Model\n\n(b) apply CPI’s Crisis Developm
 ent Model℠ to prevent and de-escalate distress behaviors and\n\n(c) suppor
 t families.\n\nThis course is a hybrid format. Learners must complete a 4-
 hour online class prior to the in-person class. After you complete this re
 gistration\, you will receive an email from crisisprevention.com to start 
 the online class.\n\nIn person portion details: January 22 from 8:30-1:00 
 at Sunrise of McLean\n\nUpon completion of the full training\, participant
 s will earn the Dementia Capable Care Specialist Credential (DCCS). Your D
 CCS verified digital credential\, and badge is valid for 2 years. You will
  receive a Certificate of Completion documenting the Contact Hours earned 
 that may be eligible for CEUs\, depending on your field.\n\n&nbsp\;\n<stro
 ng><a href='https://insightmemory.app.neoncrm.com/nx/portal/neonevents/eve
 nts?path=%2Fportal%2Fevents%2F31803'>Sign Me Up!</a></strong>\n\n
X-WR-RELCALID:654c6a5d781225ad929189d107aac9c4
X-WR-TIMEZONE:America/New_York
BEGIN:VTIMEZONE
TZID:America/New_York
BEGIN:STANDARD
TZNAME:EST
DTSTART:20251102T020000
TZOFFSETFROM:-0400
TZOFFSETTO:-0500
RDATE:20261101T020000
END:STANDARD
BEGIN:DAYLIGHT
TZNAME:EDT
DTSTART:20250309T020000
TZOFFSETFROM:-0500
TZOFFSETTO:-0400
RDATE:20260308T020000
RDATE:20270314T020000
END:DAYLIGHT
END:VTIMEZONE
BEGIN:VEVENT
UID:16c550fc-7e6f-454c-aa66-e9a77bc3e6af
DTSTAMP:20260422T161019Z
DESCRIPTION:Dementia Capable Care (DCC) Specialist Training is an evidence-
 based dementia and behavior training program designed for health care work
 ers that makes a sustainable impact. This advanced training focuses on pra
 ctical solutions to preventing and de-escalating behaviors.\n\nEarners can
  apply specialized approaches using Crisis Prevention Institute’s (CPI) De
 mentia Capable Care Model to:\n\n(a) optimize function\, safety\, and qual
 ity of life through person-centered and cognitively supportive approaches 
 using Allen Cognitive Levels and Model\n\n(b) apply CPI’s Crisis Developme
 nt Model℠ to prevent and de-escalate distress behaviors and\n\n(c) support
  families.\n\nThis course is a hybrid format. Learners must complete a 4-h
 our online class prior to the in-person class. After you complete this reg
 istration\, you will receive an email from crisisprevention.com to start t
 he online class.\n\nIn person portion details: January 22 from 8:30-1:00 a
 t Sunrise of McLean\n\nUpon completion of the full training\, participants
  will earn the Dementia Capable Care Specialist Credential (DCCS). Your DC
 CS verified digital credential\, and badge is valid for 2 years. You will 
 receive a Certificate of Completion documenting the Contact Hours earned t
 hat may be eligible for CEUs\, depending on your field.\n\n&nbsp\;\n<stron
 g><a href='https://insightmemory.app.neoncrm.com/nx/portal/neonevents/even
 ts?path=%2Fportal%2Fevents%2F31803'>Sign Me Up!</a></strong>\n\n
DTSTART;TZID=America/New_York:20260122T083000
DTEND;TZID=America/New_York:20260122T130000
LOCATION:Sunrise of McLean\, 8315 Turning Leaf Lane\, McLean\, VA 22102 US
SUMMARY:Dementia Capable Care Specialist Training
END:VEVENT
END:VCALENDAR
