BEGIN:VCALENDAR
VERSION:2.0
PRODID:-//www.insightmcc.org//NONSGML kigkonsult.se iCalcreator 2.30.10//
CALSCALE:GREGORIAN
METHOD:PUBLISH
UID:9eafc7e4-0410-4e8f-a52e-b7f4e126e364
X-WR-CALDESC:Meet Me: Community Outings are free\, and give families living
  with mild cognitive impairment (MCI) or early stage memory loss an opport
 unity to connect and stay engaged in the community\, in a safe and support
 ive way. Outings are designed for both the diagnosed individual and a care
  partner or friend to participate together\, and meet new friends in the p
 rocess!\nCome enjoy the beautiful sounds of handbell group Music to Free! 
 From familiar tunes to fun new pieces\, this performance is sure to fill t
 he air with bright\, beautiful sounds that sparkle with energy and warmth.
  Come relax\, listen\, and enjoy the talent of our local community followe
 d by refreshments and fellowship.\n\n&nbsp\;\n<strong><a href='https://ins
 ightmemory.app.neoncrm.com/nx/portal/neonevents/events?path=%2Fportal%2Fev
 ents%2F28433'>Sign Me Up!</a></strong>\n\n
X-WR-RELCALID:5efdacc74a21c30fba3379bfdb545d7b
X-WR-TIMEZONE:America/New_York
BEGIN:VTIMEZONE
TZID:America/New_York
BEGIN:STANDARD
TZNAME:EST
DTSTART:20251102T020000
TZOFFSETFROM:-0400
TZOFFSETTO:-0500
RDATE:20261101T020000
END:STANDARD
BEGIN:DAYLIGHT
TZNAME:EDT
DTSTART:20250309T020000
TZOFFSETFROM:-0500
TZOFFSETTO:-0400
RDATE:20260308T020000
RDATE:20270314T020000
END:DAYLIGHT
END:VTIMEZONE
BEGIN:VEVENT
UID:7d8b63c9-ac8a-41f0-bab6-874cc9177ee2
DTSTAMP:20260422T160245Z
DESCRIPTION:Meet Me: Community Outings are free\, and give families living 
 with mild cognitive impairment (MCI) or early stage memory loss an opportu
 nity to connect and stay engaged in the community\, in a safe and supporti
 ve way. Outings are designed for both the diagnosed individual and a care 
 partner or friend to participate together\, and meet new friends in the pr
 ocess!\nCome enjoy the beautiful sounds of handbell group Music to Free! F
 rom familiar tunes to fun new pieces\, this performance is sure to fill th
 e air with bright\, beautiful sounds that sparkle with energy and warmth. 
 Come relax\, listen\, and enjoy the talent of our local community followed
  by refreshments and fellowship.\n\n&nbsp\;\n<strong><a href='https://insi
 ghtmemory.app.neoncrm.com/nx/portal/neonevents/events?path=%2Fportal%2Feve
 nts%2F28433'>Sign Me Up!</a></strong>\n\n
DTSTART;TZID=America/New_York:20260122T133000
DTEND;TZID=America/New_York:20260122T150000
LOCATION:Andrew Chapel UMC\, 1301 Trap Rd\, Vienna\, Virginia\, VA 22182 US
SUMMARY:Meet Me: Handbell Performance
END:VEVENT
END:VCALENDAR
