BEGIN:VCALENDAR
VERSION:2.0
PRODID:-//www.insightmcc.org//NONSGML kigkonsult.se iCalcreator 2.30.10//
CALSCALE:GREGORIAN
METHOD:PUBLISH
UID:a2042176-dc39-430a-852a-b8c8bd3b9d6c
X-WR-CALDESC:Taking Care of Yourself: Tips to Survive being a Care Giver fo
 r a Loved one with Dementia\nApr 23\, 2026\;  7:00 PM – 8:00 PM\nZoom\n\nC
 aregiving can be meaningful—but it can also be exhausting and overwhelming
 . We’ll explore who caregivers are\, the many roles they take on\, and how
  caregiving can affect emotional\, physical\, and mental well-being. If yo
 u are a Caregiver\, especially for a loved one with dementia\, please join
  us. Taking care of yourself is or upmost importance. Participants will le
 arn why self-care is essential\, common barriers that make it difficult\, 
 and practical strategies for stress relief. The session will also highligh
 t the value of respite care and share helpful resources that can support c
 aregivers along the way.\n\nSpeaker: Lindsey Vajpeyi\nHosted by Silver Bri
 dges Consulting
X-WR-RELCALID:28e4c96439d20faf14de079a68b5e213
X-WR-TIMEZONE:America/New_York
BEGIN:VTIMEZONE
TZID:America/New_York
BEGIN:STANDARD
TZNAME:EST
DTSTART:20251102T020000
TZOFFSETFROM:-0400
TZOFFSETTO:-0500
RDATE:20261101T020000
END:STANDARD
BEGIN:DAYLIGHT
TZNAME:EDT
DTSTART:20260308T020000
TZOFFSETFROM:-0500
TZOFFSETTO:-0400
RDATE:20270314T020000
END:DAYLIGHT
END:VTIMEZONE
BEGIN:VEVENT
UID:5dff0d8a-7cf2-468b-808e-dc1b244b9e10
DTSTAMP:20260426T032454Z
DESCRIPTION:Taking Care of Yourself: Tips to Survive being a Care Giver for
  a Loved one with Dementia\nApr 23\, 2026\;  7:00 PM – 8:00 PM\nZoom\n\nCa
 regiving can be meaningful—but it can also be exhausting and overwhelming.
  We’ll explore who caregivers are\, the many roles they take on\, and how 
 caregiving can affect emotional\, physical\, and mental well-being. If you
  are a Caregiver\, especially for a loved one with dementia\, please join 
 us. Taking care of yourself is or upmost importance. Participants will lea
 rn why self-care is essential\, common barriers that make it difficult\, a
 nd practical strategies for stress relief. The session will also highlight
  the value of respite care and share helpful resources that can support ca
 regivers along the way.\n\nSpeaker: Lindsey Vajpeyi\nHosted by Silver Brid
 ges Consulting
DTSTART;TZID=America/New_York:20260423T190000
DTEND;TZID=America/New_York:20260423T200000
LOCATION:https://zoom.us/webinar/register/WN_iMWa2_GpRoe5JgTd4AL4yg#/regist
 ration
SUMMARY:Taking Care of Yourself: Tips to Survive being a Care Giver for a L
 oved one with Dementia
END:VEVENT
END:VCALENDAR
