BEGIN:VCALENDAR
VERSION:2.0
PRODID:-//www.insightmcc.org//NONSGML kigkonsult.se iCalcreator 2.30.10//
CALSCALE:GREGORIAN
METHOD:PUBLISH
UID:82b0c4a0-4b64-4731-8bdc-0c10239df4b3
X-WR-CALDESC:Equine assisted activities can help seniors reconnect with mem
 ories\, improve fine motor function\, and provide a fun new opportunity fo
 r social interaction!\n\nMeet Me: Community Outings are free\, and give fa
 milies living with mild cognitive impairment (MCI) or early stage memory l
 oss an opportunity to connect and stay engaged in the community\, in a saf
 e and supportive way. Outings are designed for both the diagnosed individu
 al and a care partner or friend to participate together\, and meet new fri
 ends in the process!\n\n&nbsp\;\n<strong><a href='https://insightmemory.ap
 p.neoncrm.com/nx/portal/neonevents/events?path=%2Fportal%2Fevents%2F39040'
  target='_blank' class='button' rel='noreferrer noopener'>Sign Me Up!</a><
 /strong>\n\n
X-WR-RELCALID:bba900046245facfe0878045368363a5
X-WR-TIMEZONE:America/New_York
BEGIN:VTIMEZONE
TZID:America/New_York
BEGIN:STANDARD
TZNAME:EST
DTSTART:20251102T020000
TZOFFSETFROM:-0400
TZOFFSETTO:-0500
RDATE:20261101T020000
RDATE:20271107T020000
END:STANDARD
BEGIN:DAYLIGHT
TZNAME:EDT
DTSTART:20260308T020000
TZOFFSETFROM:-0500
TZOFFSETTO:-0400
RDATE:20270314T020000
END:DAYLIGHT
END:VTIMEZONE
BEGIN:VEVENT
UID:528df2b5-ccc7-40c3-a999-52070d6bdc8d
DTSTAMP:20260421T080750Z
DESCRIPTION:Equine assisted activities can help seniors reconnect with memo
 ries\, improve fine motor function\, and provide a fun new opportunity for
  social interaction!\n\nMeet Me: Community Outings are free\, and give fam
 ilies living with mild cognitive impairment (MCI) or early stage memory lo
 ss an opportunity to connect and stay engaged in the community\, in a safe
  and supportive way. Outings are designed for both the diagnosed individua
 l and a care partner or friend to participate together\, and meet new frie
 nds in the process!\n\n&nbsp\;\n<strong><a href='https://insightmemory.app
 .neoncrm.com/nx/portal/neonevents/events?path=%2Fportal%2Fevents%2F39040' 
 target='_blank' class='button' rel='noreferrer noopener'>Sign Me Up!</a></
 strong>\n\n
DTSTART;TZID=America/New_York:20260512T110000
DTEND;TZID=America/New_York:20260512T120000
LOCATION:14490 Berlin Turnpike\, Lovettsville\, AL 20180 US
SUMMARY:Meet Me: At Loudoun Therapeutic Riding
END:VEVENT
END:VCALENDAR
