BEGIN:VCALENDAR
VERSION:2.0
PRODID:-//www.insightmcc.org//NONSGML kigkonsult.se iCalcreator 2.30.10//
CALSCALE:GREGORIAN
METHOD:PUBLISH
UID:7c6c73fe-134f-428e-a111-52cd6c9bffdf
X-WR-CALDESC:This class empowers care partners to enhance daily life by dis
 covering the importance of effective routines\, implementing home safety m
 odifications\, and learning valuable tips for personal care (including bat
 hing\, dressing\, and mealtimes).\n\nPresenter: Bal Therapy	\n\n&nbsp\;\n<s
 trong><a href='https://insightmemory.app.neoncrm.com/nx/portal/neonevents/
 events?path=%2Fportal%2Fevents%2F39515' class='button'>Sign Me Up!</a></st
 rong>
X-WR-RELCALID:6bb162750360a2f50af4dce324f2e639
X-WR-TIMEZONE:America/New_York
BEGIN:VTIMEZONE
TZID:America/New_York
BEGIN:STANDARD
TZNAME:EST
DTSTART:20251102T020000
TZOFFSETFROM:-0400
TZOFFSETTO:-0500
RDATE:20261101T020000
RDATE:20271107T020000
END:STANDARD
BEGIN:DAYLIGHT
TZNAME:EDT
DTSTART:20260308T020000
TZOFFSETFROM:-0500
TZOFFSETTO:-0400
RDATE:20270314T020000
END:DAYLIGHT
END:VTIMEZONE
BEGIN:VEVENT
UID:2a389c54-346a-4a5c-a77b-d64697da0b33
DTSTAMP:20260421T081552Z
DESCRIPTION:This class empowers care partners to enhance daily life by disc
 overing the importance of effective routines\, implementing home safety mo
 difications\, and learning valuable tips for personal care (including bath
 ing\, dressing\, and mealtimes).\n\nPresenter: Bal Therapy	\n\n&nbsp\;\n<st
 rong><a href='https://insightmemory.app.neoncrm.com/nx/portal/neonevents/e
 vents?path=%2Fportal%2Fevents%2F39515' class='button'>Sign Me Up!</a></str
 ong>
DTSTART;TZID=America/New_York:20260513T120000
DTEND;TZID=America/New_York:20260513T133000
LOCATION:3955 Pender Drive Suite 100\, Insight Memory Care Day Center\, Fai
 rfax\, VA 22030 US
SUMMARY:Care Partner Training: Day to Day Care and Safety
END:VEVENT
END:VCALENDAR
