BEGIN:VCALENDAR
VERSION:2.0
PRODID:-//www.insightmcc.org//NONSGML kigkonsult.se iCalcreator 2.30.10//
CALSCALE:GREGORIAN
METHOD:PUBLISH
UID:d22ec6df-4c16-4075-a6ea-dcee4caa0337
X-WR-CALDESC:This virtual information session is for individuals recently d
 iagnosed with dementia and their loved ones. We will explore what dementia
  is (and isn’t)\, what to expect early on\, the emotional impact of a diag
 nosis\, and practical next steps. Participants will also learn ways to liv
 e well with dementia and have time for questions in a supportive\, welcomi
 ng space. Complimentary.\n\n&nbsp\;\n<strong><a href='https://insightmemor
 y.app.neoncrm.com/nx/portal/neonevents/events?path=%2Fportal%2Fevents%2F33
 796'>Sign Me Up!</a></strong>
X-WR-RELCALID:5130a74d5f7c52b2b467e4cd1ecd2663
X-WR-TIMEZONE:America/New_York
BEGIN:VTIMEZONE
TZID:America/New_York
BEGIN:STANDARD
TZNAME:EST
DTSTART:20251102T020000
TZOFFSETFROM:-0400
TZOFFSETTO:-0500
RDATE:20261101T020000
RDATE:20271107T020000
END:STANDARD
BEGIN:DAYLIGHT
TZNAME:EDT
DTSTART:20260308T020000
TZOFFSETFROM:-0500
TZOFFSETTO:-0400
RDATE:20270314T020000
END:DAYLIGHT
END:VTIMEZONE
BEGIN:VEVENT
UID:156fc52b-69f2-4366-b519-023c1977d6e1
DTSTAMP:20260421T081052Z
DESCRIPTION:This virtual information session is for individuals recently di
 agnosed with dementia and their loved ones. We will explore what dementia 
 is (and isn’t)\, what to expect early on\, the emotional impact of a diagn
 osis\, and practical next steps. Participants will also learn ways to live
  well with dementia and have time for questions in a supportive\, welcomin
 g space. Complimentary.\n\n&nbsp\;\n<strong><a href='https://insightmemory
 .app.neoncrm.com/nx/portal/neonevents/events?path=%2Fportal%2Fevents%2F337
 96'>Sign Me Up!</a></strong>
DTSTART;TZID=America/New_York:20260514T120000
DTEND;TZID=America/New_York:20260514T130000
LOCATION:
SUMMARY:Learning About a Dementia Diagnosis
END:VEVENT
END:VCALENDAR
