BEGIN:VCALENDAR
VERSION:2.0
PRODID:-//www.insightmcc.org//NONSGML kigkonsult.se iCalcreator 2.30.10//
CALSCALE:GREGORIAN
METHOD:PUBLISH
UID:1a40687c-115e-45ce-b548-d251366dbfa8
X-WR-CALDESC:The Virtual Dementia Tour (VDT) is designed to help simulate t
 he effects of dementia. A trained facilitator will guide participants outf
 itted with patented devices that alter their senses while they try to comp
 lete common everyday tasks and exercises. The Tour enables caregivers to e
 xperience for themselves the physical and mental challenges those with dem
 entia face\, and use the experience to provide better person-centered care
 .\n\nSign up for a specific 30-minute time slot at the link below\; only t
 wo are available each half-hour. Pick your slot today to gain better insig
 ht into caring for those with memory impairments!\n\n&nbsp\;\n<strong><a h
 ref='https://insightmemory.app.neoncrm.com/nx/portal/neonevents/events?pat
 h=/portal/events/42489' target='_blank' class='button' rel='noreferrer noo
 pener'>Sign Me Up!</a></strong>
X-WR-RELCALID:afaf824f9e63c0e2f1a7f623f4ede86d
X-WR-TIMEZONE:America/New_York
BEGIN:VTIMEZONE
TZID:America/New_York
BEGIN:STANDARD
TZNAME:EST
DTSTART:20251102T020000
TZOFFSETFROM:-0400
TZOFFSETTO:-0500
RDATE:20261101T020000
RDATE:20271107T020000
END:STANDARD
BEGIN:DAYLIGHT
TZNAME:EDT
DTSTART:20260308T020000
TZOFFSETFROM:-0500
TZOFFSETTO:-0400
RDATE:20270314T020000
END:DAYLIGHT
END:VTIMEZONE
BEGIN:VEVENT
UID:36586412-9098-417d-bb37-a6a3577fd413
DTSTAMP:20260421T094032Z
DESCRIPTION:The Virtual Dementia Tour (VDT) is designed to help simulate th
 e effects of dementia. A trained facilitator will guide participants outfi
 tted with patented devices that alter their senses while they try to compl
 ete common everyday tasks and exercises. The Tour enables caregivers to ex
 perience for themselves the physical and mental challenges those with deme
 ntia face\, and use the experience to provide better person-centered care.
 \n\nSign up for a specific 30-minute time slot at the link below\; only tw
 o are available each half-hour. Pick your slot today to gain better insigh
 t into caring for those with memory impairments!\n\n&nbsp\;\n<strong><a hr
 ef='https://insightmemory.app.neoncrm.com/nx/portal/neonevents/events?path
 =/portal/events/42489' target='_blank' class='button' rel='noreferrer noop
 ener'>Sign Me Up!</a></strong>
DTSTART;TZID=America/New_York:20260601T103000
DTEND;TZID=America/New_York:20260601T130000
LOCATION:The Landing\, 2620 Main Line Blvd\, Alexandria\, VA 22301 US
SUMMARY:Virtual Dementia Tour (VDT) (in-person event)
END:VEVENT
END:VCALENDAR
