BEGIN:VCALENDAR
VERSION:2.0
PRODID:-//www.insightmcc.org//NONSGML kigkonsult.se iCalcreator 2.30.10//
CALSCALE:GREGORIAN
METHOD:PUBLISH
UID:ed46d69d-e984-4860-a8e6-d0043bd71c85
X-WR-CALDESC:Join us for a complimentary community event to gain knowledge 
 and resources related to dementia and cognitive health. \n\nThis fair will
  feature informational booths from local organizations\, interactive activ
 ities focused on brain health\, memory screenings\, and caregiving support
  resources. Attendees can connect with professionals and learn practical s
 trategies for supporting individuals living with dementia. This event is c
 o-hosted by VHC Health Senior Health and Insight Memory Care Center.\n\n&n
 bsp\;\n<strong><a href='https://insightmemory.app.neoncrm.com/nx/portal/ne
 onevents/events?path=%2Fportal%2Fevents%2F42032' class='button'>Sign Me Up
 !</a></strong>
X-WR-RELCALID:303ef615c847f14be79745252b663ffa
X-WR-TIMEZONE:America/New_York
BEGIN:VTIMEZONE
TZID:America/New_York
BEGIN:STANDARD
TZNAME:EST
DTSTART:20251102T020000
TZOFFSETFROM:-0400
TZOFFSETTO:-0500
RDATE:20261101T020000
RDATE:20271107T020000
END:STANDARD
BEGIN:DAYLIGHT
TZNAME:EDT
DTSTART:20260308T020000
TZOFFSETFROM:-0500
TZOFFSETTO:-0400
RDATE:20270314T020000
END:DAYLIGHT
END:VTIMEZONE
BEGIN:VEVENT
UID:0a8adf49-c609-45cf-90c0-e03c5ca0a69f
DTSTAMP:20260421T094005Z
DESCRIPTION:Join us for a complimentary community event to gain knowledge a
 nd resources related to dementia and cognitive health. \n\nThis fair will 
 feature informational booths from local organizations\, interactive activi
 ties focused on brain health\, memory screenings\, and caregiving support 
 resources. Attendees can connect with professionals and learn practical st
 rategies for supporting individuals living with dementia. This event is co
 -hosted by VHC Health Senior Health and Insight Memory Care Center.\n\n&nb
 sp\;\n<strong><a href='https://insightmemory.app.neoncrm.com/nx/portal/neo
 nevents/events?path=%2Fportal%2Fevents%2F42032' class='button'>Sign Me Up!
 </a></strong>
DTSTART;TZID=America/New_York:20260605T110000
DTEND;TZID=America/New_York:20260605T130000
LOCATION:Lubber Run Community Center\, 300 N Park Drive\, Arlington\, VA 22
 203 US
SUMMARY:Engage the Mind: Dementia Awareness Event
END:VEVENT
END:VCALENDAR
