BEGIN:VCALENDAR
VERSION:2.0
PRODID:-//www.insightmcc.org//NONSGML kigkonsult.se iCalcreator 2.30.10//
CALSCALE:GREGORIAN
METHOD:PUBLISH
UID:44b24407-6433-4a89-94a3-c194c0d951f5
X-WR-CALDESC:What’s normal and when is it time to ask your doctor if it’s s
 omething more? Join us for a discussion on changes that occur with age\, w
 arning signs of a memory problem\, and what to do if someone you love is e
 xperiencing symptoms of dementia.\n\nDawn Jefferson\, Education and Suppor
 t Coordinator at Insight Memory Care Center will be facilitating this work
 shop.\n\nContact the VCAA for registration: https://www.fairfaxcounty.gov/
 neighborhood-community-services/virtual-center-active-adults
X-WR-RELCALID:39ead587d58a1a231d21457d0da6019a
X-WR-TIMEZONE:America/New_York
BEGIN:VTIMEZONE
TZID:America/New_York
BEGIN:STANDARD
TZNAME:EST
DTSTART:20251102T020000
TZOFFSETFROM:-0400
TZOFFSETTO:-0500
RDATE:20261101T020000
RDATE:20271107T020000
END:STANDARD
BEGIN:DAYLIGHT
TZNAME:EDT
DTSTART:20260308T020000
TZOFFSETFROM:-0500
TZOFFSETTO:-0400
RDATE:20270314T020000
END:DAYLIGHT
END:VTIMEZONE
BEGIN:VEVENT
UID:d423c59e-fe84-413a-bf2f-6e4ac403fc32
DTSTAMP:20260421T093940Z
DESCRIPTION:What’s normal and when is it time to ask your doctor if it’s so
 mething more? Join us for a discussion on changes that occur with age\, wa
 rning signs of a memory problem\, and what to do if someone you love is ex
 periencing symptoms of dementia.\n\nDawn Jefferson\, Education and Support
  Coordinator at Insight Memory Care Center will be facilitating this works
 hop.\n\nContact the VCAA for registration: https://www.fairfaxcounty.gov/n
 eighborhood-community-services/virtual-center-active-adults
DTSTART;TZID=America/New_York:20260616T101500
DTEND;TZID=America/New_York:20260616T111500
LOCATION:https://www.fairfaxcounty.gov/neighborhood-community-services/virt
 ual-center-active-adults
SUMMARY:Normal Aging vs. Dementia
END:VEVENT
END:VCALENDAR
