BEGIN:VCALENDAR
VERSION:2.0
PRODID:-//www.insightmcc.org//NONSGML kigkonsult.se iCalcreator 2.30.10//
CALSCALE:GREGORIAN
METHOD:PUBLISH
UID:3990ff06-9714-409b-a4a1-db6c93843c74
X-WR-CALDESC:This class will teach care partners how to support cognitive f
 unction and well-being by learning simple cognitive stimulation activities
 \, adapting favorite hobbies\, and effectively incorporating music and art
  into daily routines. Free lunch served at 12:00pm.		\n\n&nbsp\;\n<strong><a
  href='https://insightmemory.app.neoncrm.com/nx/portal/neonevents/events?p
 ath=%2Fportal%2Fevents%2F33042' class='button'>Sign Me Up!</a></strong>
X-WR-RELCALID:de77fff799cf2099cfb802c9ed3ae06d
X-WR-TIMEZONE:America/New_York
BEGIN:VTIMEZONE
TZID:America/New_York
BEGIN:STANDARD
TZNAME:EST
DTSTART:20251102T020000
TZOFFSETFROM:-0400
TZOFFSETTO:-0500
RDATE:20261101T020000
RDATE:20271107T020000
END:STANDARD
BEGIN:DAYLIGHT
TZNAME:EDT
DTSTART:20260308T020000
TZOFFSETFROM:-0500
TZOFFSETTO:-0400
RDATE:20270314T020000
END:DAYLIGHT
END:VTIMEZONE
BEGIN:VEVENT
UID:ab336cdb-c6f7-4c13-957f-d622726fb221
DTSTAMP:20260421T110311Z
DESCRIPTION:This class will teach care partners how to support cognitive fu
 nction and well-being by learning simple cognitive stimulation activities\
 , adapting favorite hobbies\, and effectively incorporating music and art 
 into daily routines. Free lunch served at 12:00pm.		\n\n&nbsp\;\n<strong><a 
 href='https://insightmemory.app.neoncrm.com/nx/portal/neonevents/events?pa
 th=%2Fportal%2Fevents%2F33042' class='button'>Sign Me Up!</a></strong>
DTSTART;TZID=America/New_York:20260708T120000
DTEND;TZID=America/New_York:20260708T133000
LOCATION:3955 Pender Drive Suite 100\, Insight Memory Care Day Center\, Fai
 rfax\, VA 22030 US
SUMMARY:Care Partner Training: Activities and Engagement
END:VEVENT
END:VCALENDAR
