BEGIN:VCALENDAR
VERSION:2.0
PRODID:-//www.insightmcc.org//NONSGML kigkonsult.se iCalcreator 2.30.10//
CALSCALE:GREGORIAN
METHOD:PUBLISH
UID:0aa7c0a1-ec06-407c-920d-14f51c5f4fbe
X-WR-CALDESC:It can be quite a shock - or a sense of relief! - after diagno
 sis. Start to plan ahead while also adjusting to life with someone who has
  dementia.\n\nDawn Jefferson\, Education and Support Coordinator at Insigh
 t Memory Care Center will be facilitating this workshop.\n\nContact the VC
 AA for registration: https://www.fairfaxcounty.gov/neighborhood-community-
 services/virtual-center-active-adults
X-WR-RELCALID:3f0ad66510aa2cdfe4fb82451e5db8a0
X-WR-TIMEZONE:America/New_York
BEGIN:VTIMEZONE
TZID:America/New_York
BEGIN:STANDARD
TZNAME:EST
DTSTART:20251102T020000
TZOFFSETFROM:-0400
TZOFFSETTO:-0500
RDATE:20261101T020000
RDATE:20271107T020000
END:STANDARD
BEGIN:DAYLIGHT
TZNAME:EDT
DTSTART:20260308T020000
TZOFFSETFROM:-0500
TZOFFSETTO:-0400
RDATE:20270314T020000
END:DAYLIGHT
END:VTIMEZONE
BEGIN:VEVENT
UID:bbe26873-7ba2-4d4c-a7cf-3b93f20d4ec9
DTSTAMP:20260421T105152Z
DESCRIPTION:It can be quite a shock - or a sense of relief! - after diagnos
 is. Start to plan ahead while also adjusting to life with someone who has 
 dementia.\n\nDawn Jefferson\, Education and Support Coordinator at Insight
  Memory Care Center will be facilitating this workshop.\n\nContact the VCA
 A for registration: https://www.fairfaxcounty.gov/neighborhood-community-s
 ervices/virtual-center-active-adults
DTSTART;TZID=America/New_York:20260728T101500
DTEND;TZID=America/New_York:20260728T111500
LOCATION:https://www.fairfaxcounty.gov/neighborhood-community-services/virt
 ual-center-active-adults
SUMMARY:Diagnosis Dementia: Now Whay
END:VEVENT
END:VCALENDAR
