BEGIN:VCALENDAR
VERSION:2.0
PRODID:-//www.insightmcc.org//NONSGML kigkonsult.se iCalcreator 2.30.10//
CALSCALE:GREGORIAN
METHOD:PUBLISH
UID:7c98d0d0-9b4f-4954-9345-cc475628fe19
X-WR-CALDESC:This class will help care partners understand how dementia aff
 ects family relationships\, offer practical tips for communicating with on
 e another\, and provide effective strategies for working together as a car
 e team. Free Lunch provided at 12:00pm.\n\n\n&nbsp\;\n<strong><a href='htt
 ps://insightmemory.app.neoncrm.com/nx/portal/neonevents/events?path=%2Fpor
 tal%2Fevents%2F33054' class='button'>Sign Me Up!</a></strong>
X-WR-RELCALID:7301351b3cd54090c319a32fe59c2cd7
X-WR-TIMEZONE:America/New_York
BEGIN:VTIMEZONE
TZID:America/New_York
BEGIN:STANDARD
TZNAME:EST
DTSTART:20251102T020000
TZOFFSETFROM:-0400
TZOFFSETTO:-0500
RDATE:20261101T020000
RDATE:20271107T020000
END:STANDARD
BEGIN:DAYLIGHT
TZNAME:EDT
DTSTART:20260308T020000
TZOFFSETFROM:-0500
TZOFFSETTO:-0400
RDATE:20270314T020000
END:DAYLIGHT
END:VTIMEZONE
BEGIN:VEVENT
UID:c175589c-e397-4f4c-ba97-8b209e502ca0
DTSTAMP:20260421T121051Z
DESCRIPTION:This class will help care partners understand how dementia affe
 cts family relationships\, offer practical tips for communicating with one
  another\, and provide effective strategies for working together as a care
  team. Free Lunch provided at 12:00pm.\n\n\n&nbsp\;\n<strong><a href='http
 s://insightmemory.app.neoncrm.com/nx/portal/neonevents/events?path=%2Fport
 al%2Fevents%2F33054' class='button'>Sign Me Up!</a></strong>
DTSTART;TZID=America/New_York:20260812T120000
DTEND;TZID=America/New_York:20260812T133000
LOCATION:3955 Pender Drive Suite 100\, Insight Memory Care Day Center\, Fai
 rfax\, VA 22030 US
SUMMARY:Care Partner Training: Navigating Family Dynamics
END:VEVENT
END:VCALENDAR
