BEGIN:VCALENDAR
VERSION:2.0
PRODID:-//www.insightmcc.org//NONSGML kigkonsult.se iCalcreator 2.30.10//
CALSCALE:GREGORIAN
METHOD:PUBLISH
UID:c11bb147-5e69-4cc2-992b-9f5e8fde104d
X-WR-CALDESC:Taking care of yourself is one of the most important things yo
 u can do as a caregiver. Caregiving is not easy — not for the caregiver an
 d not for the person receiving care. It requires sacrifices and adjustment
 s for everyone. Often\, family caregivers must juggle work and family life
  to make time for these new responsibilities. Join us as we discuss extra 
 tips to help you along this journey.\n\nDawn Jefferson\, Education and Sup
 port Coordinator at Insight Memory Care Center will be facilitating this w
 orkshop.\n\nContact the VCAA for registration: https://www.fairfaxcounty.g
 ov/neighborhood-community-services/virtual-center-active-adults
X-WR-RELCALID:e26092bb0469a844717065c2c49e5649
X-WR-TIMEZONE:America/New_York
BEGIN:VTIMEZONE
TZID:America/New_York
BEGIN:STANDARD
TZNAME:EST
DTSTART:20251102T020000
TZOFFSETFROM:-0400
TZOFFSETTO:-0500
RDATE:20261101T020000
RDATE:20271107T020000
END:STANDARD
BEGIN:DAYLIGHT
TZNAME:EDT
DTSTART:20260308T020000
TZOFFSETFROM:-0500
TZOFFSETTO:-0400
RDATE:20270314T020000
END:DAYLIGHT
END:VTIMEZONE
BEGIN:VEVENT
UID:4f909f6d-0532-4b9b-867e-ef606b45912b
DTSTAMP:20260421T120933Z
DESCRIPTION:Taking care of yourself is one of the most important things you
  can do as a caregiver. Caregiving is not easy — not for the caregiver and
  not for the person receiving care. It requires sacrifices and adjustments
  for everyone. Often\, family caregivers must juggle work and family life 
 to make time for these new responsibilities. Join us as we discuss extra t
 ips to help you along this journey.\n\nDawn Jefferson\, Education and Supp
 ort Coordinator at Insight Memory Care Center will be facilitating this wo
 rkshop.\n\nContact the VCAA for registration: https://www.fairfaxcounty.go
 v/neighborhood-community-services/virtual-center-active-adults
DTSTART;TZID=America/New_York:20260825T101500
DTEND;TZID=America/New_York:20260825T111500
LOCATION:https://www.fairfaxcounty.gov/neighborhood-community-services/virt
 ual-center-active-adults
SUMMARY:Taking Care of Yourself: Tips for Survive Caregiving
END:VEVENT
END:VCALENDAR
